BEGIN:VCALENDAR
VERSION:2.0
PRODID:-//CMAA South Atlantic Chapter - ECPv6.15.20//NONSGML v1.0//EN
CALSCALE:GREGORIAN
METHOD:PUBLISH
X-ORIGINAL-URL:https://cmaasac.org
X-WR-CALDESC:Events for CMAA South Atlantic Chapter
REFRESH-INTERVAL;VALUE=DURATION:PT1H
X-Robots-Tag:noindex
X-PUBLISHED-TTL:PT1H
BEGIN:VTIMEZONE
TZID:America/New_York
BEGIN:DAYLIGHT
TZOFFSETFROM:-0500
TZOFFSETTO:-0400
TZNAME:EDT
DTSTART:20180311T070000
END:DAYLIGHT
BEGIN:STANDARD
TZOFFSETFROM:-0400
TZOFFSETTO:-0500
TZNAME:EST
DTSTART:20181104T060000
END:STANDARD
BEGIN:DAYLIGHT
TZOFFSETFROM:-0500
TZOFFSETTO:-0400
TZNAME:EDT
DTSTART:20190310T070000
END:DAYLIGHT
BEGIN:STANDARD
TZOFFSETFROM:-0400
TZOFFSETTO:-0500
TZNAME:EST
DTSTART:20191103T060000
END:STANDARD
BEGIN:DAYLIGHT
TZOFFSETFROM:-0500
TZOFFSETTO:-0400
TZNAME:EDT
DTSTART:20200308T070000
END:DAYLIGHT
BEGIN:STANDARD
TZOFFSETFROM:-0400
TZOFFSETTO:-0500
TZNAME:EST
DTSTART:20201101T060000
END:STANDARD
END:VTIMEZONE
BEGIN:VEVENT
DTSTART;TZID=America/New_York:20190820T163000
DTEND;TZID=America/New_York:20190820T193000
DTSTAMP:20260421T160201
CREATED:20190730T203102Z
LAST-MODIFIED:20190809T171803Z
UID:10000003-1566318600-1566329400@cmaasac.org
SUMMARY:Owners' Social August 2019
DESCRIPTION:Join CMAA SAC for our signature Owners’ Social event. Network with Owners and industry peers in a comfortable environment allowing for relationship building and productive conversations.
URL:https://cmaasac.org/event/owners-social-august-2019/
LOCATION:Three Sheets\, 6017 Sandy Springs Circle\, Atlanta\, GA\, 30328\, United States
CATEGORIES:Owners' Socials
ATTACH;FMTTYPE=image/jpeg:https://cmaasac.org/wp-content/uploads/2019/07/Aug-2019-Owners-Social-v2.jpg
ORGANIZER;CN="CMAA SAC":MAILTO:info@cmaasac.org
END:VEVENT
END:VCALENDAR