BEGIN:VCALENDAR
VERSION:2.0
PRODID:-//CMAA South Atlantic Chapter - ECPv6.15.20//NONSGML v1.0//EN
CALSCALE:GREGORIAN
METHOD:PUBLISH
X-ORIGINAL-URL:https://cmaasac.org
X-WR-CALDESC:Events for CMAA South Atlantic Chapter
REFRESH-INTERVAL;VALUE=DURATION:PT1H
X-Robots-Tag:noindex
X-PUBLISHED-TTL:PT1H
BEGIN:VTIMEZONE
TZID:America/New_York
BEGIN:DAYLIGHT
TZOFFSETFROM:-0500
TZOFFSETTO:-0400
TZNAME:EDT
DTSTART:20210314T070000
END:DAYLIGHT
BEGIN:STANDARD
TZOFFSETFROM:-0400
TZOFFSETTO:-0500
TZNAME:EST
DTSTART:20211107T060000
END:STANDARD
BEGIN:DAYLIGHT
TZOFFSETFROM:-0500
TZOFFSETTO:-0400
TZNAME:EDT
DTSTART:20220313T070000
END:DAYLIGHT
BEGIN:STANDARD
TZOFFSETFROM:-0400
TZOFFSETTO:-0500
TZNAME:EST
DTSTART:20221106T060000
END:STANDARD
BEGIN:DAYLIGHT
TZOFFSETFROM:-0500
TZOFFSETTO:-0400
TZNAME:EDT
DTSTART:20230312T070000
END:DAYLIGHT
BEGIN:STANDARD
TZOFFSETFROM:-0400
TZOFFSETTO:-0500
TZNAME:EST
DTSTART:20231105T060000
END:STANDARD
END:VTIMEZONE
BEGIN:VEVENT
DTSTART;TZID=America/New_York:20221207T130000
DTEND;TZID=America/New_York:20221207T190000
DTSTAMP:20260421T162106
CREATED:20220324T185326Z
LAST-MODIFIED:20221027T214912Z
UID:10000067-1670418000-1670439600@cmaasac.org
SUMMARY:Metro Atlanta Water Summit | presented by CMAA-SAC
DESCRIPTION:Join CMAA-SAC at the ground breaking campus of The Water Tower in Gwinnett for a half-day event full of educational sessions\, exhibits\, and more with a networking event to close out the evening. Learn from industry experts\, participate in the discussions surrounding the leading Metro area water authorities visions\, long range planning\, innovation\, among other important topics\, explore the latest research and technologies\, and network with market leaders and professionals. \nREGISTER ONLINE            DOWNLOAD SPONSORSHIP FLYER\n\nSPEAKER ROSTER
URL:https://cmaasac.org/event/metro-atlanta-water-summit-presented-by-cmaa-sac/
LOCATION:The Water Tower\, 2500 Clean Water Court\, Buford\, GA\, 30519\, United States
CATEGORIES:Atlanta,Symposium
ATTACH;FMTTYPE=image/png:https://cmaasac.org/wp-content/uploads/2022/03/2022-Water-Summit-banner-v2.png
ORGANIZER;CN="CMAA SAC":MAILTO:info@cmaasac.org
END:VEVENT
END:VCALENDAR