BEGIN:VCALENDAR
VERSION:2.0
PRODID:-//CMAA South Atlantic Chapter - ECPv6.15.20//NONSGML v1.0//EN
CALSCALE:GREGORIAN
METHOD:PUBLISH
X-WR-CALNAME:CMAA South Atlantic Chapter
X-ORIGINAL-URL:https://cmaasac.org
X-WR-CALDESC:Events for CMAA South Atlantic Chapter
REFRESH-INTERVAL;VALUE=DURATION:PT1H
X-Robots-Tag:noindex
X-PUBLISHED-TTL:PT1H
BEGIN:VTIMEZONE
TZID:America/New_York
BEGIN:DAYLIGHT
TZOFFSETFROM:-0500
TZOFFSETTO:-0400
TZNAME:EDT
DTSTART:20210314T070000
END:DAYLIGHT
BEGIN:STANDARD
TZOFFSETFROM:-0400
TZOFFSETTO:-0500
TZNAME:EST
DTSTART:20211107T060000
END:STANDARD
BEGIN:DAYLIGHT
TZOFFSETFROM:-0500
TZOFFSETTO:-0400
TZNAME:EDT
DTSTART:20220313T070000
END:DAYLIGHT
BEGIN:STANDARD
TZOFFSETFROM:-0400
TZOFFSETTO:-0500
TZNAME:EST
DTSTART:20221106T060000
END:STANDARD
BEGIN:DAYLIGHT
TZOFFSETFROM:-0500
TZOFFSETTO:-0400
TZNAME:EDT
DTSTART:20230312T070000
END:DAYLIGHT
BEGIN:STANDARD
TZOFFSETFROM:-0400
TZOFFSETTO:-0500
TZNAME:EST
DTSTART:20231105T060000
END:STANDARD
END:VTIMEZONE
BEGIN:VEVENT
DTSTART;TZID=America/New_York:20220310T170000
DTEND;TZID=America/New_York:20220310T200000
DTSTAMP:20260421T151119
CREATED:20220207T161917Z
LAST-MODIFIED:20220308T144316Z
UID:10000063-1646931600-1646942400@cmaasac.org
SUMMARY:Joint Spring Social - CMAA-SAC and Shotgun Sisters
DESCRIPTION:Join CMAA-SAC and Shotgun Sisters for a join networking social atop Ponce City Market at THE ROOF! Bring your business cards and winning personalities to network among and with these two spectacular groups while taking in the beautiful views of Atlanta. \n \n  \n\nSponsorships Available | $600 includes 2 attendee registrations\, opportunity to address audience at meeting commencement\, logo on all signage and event communications\, slide in opening deck on rotation during networking\, hyperlink to website on event sites Thank you to our Event Champions: Paige Parnell of SL King and Tara Lane of Contour Engineering Thank you to our Sponsors: \n\n\n\n\n\n\n\n\n\n\n\n     \n\n\n\n\n     \n\n\n\n\n   \n\n\n\n\n\n\n\n\n\n\n\n\n\n\n\n\n\n 
URL:https://cmaasac.org/event/joint-spring-social-cmaa-sac-and-shotgun-sisters/
LOCATION:The ROOF at Ponce City Market\, 675 Ponce De Leon Avenue Northeast\, Atlanta\, GA\, United States
CATEGORIES:Atlanta,Happy Hour,Industry Event
ATTACH;FMTTYPE=image/png:https://cmaasac.org/wp-content/uploads/2022/03/Mar22-JOS-Roof-PCM-ATL-v6.png
ORGANIZER;CN="CMAA SAC":MAILTO:info@cmaasac.org
END:VEVENT
END:VCALENDAR