BEGIN:VCALENDAR
VERSION:2.0
PRODID:-//CMAA South Atlantic Chapter - ECPv6.15.20//NONSGML v1.0//EN
CALSCALE:GREGORIAN
METHOD:PUBLISH
X-ORIGINAL-URL:https://cmaasac.org
X-WR-CALDESC:Events for CMAA South Atlantic Chapter
REFRESH-INTERVAL;VALUE=DURATION:PT1H
X-Robots-Tag:noindex
X-PUBLISHED-TTL:PT1H
BEGIN:VTIMEZONE
TZID:UTC
BEGIN:STANDARD
TZOFFSETFROM:+0000
TZOFFSETTO:+0000
TZNAME:UTC
DTSTART:20240101T000000
END:STANDARD
END:VTIMEZONE
BEGIN:VEVENT
DTSTART;TZID=UTC:20250612T113000
DTEND;TZID=UTC:20250612T130000
DTSTAMP:20260421T161245
CREATED:20250520T003328Z
LAST-MODIFIED:20250520T010116Z
UID:10000130-1749727800-1749733200@cmaasac.org
SUMMARY:Nashville Lunch and Learn
DESCRIPTION:Discover the essentials of building enclosure system construction\, encompassing roofs\, opaque walls\, fenestrations\, and below-grade waterproofing. This comprehensive introduction delves into the common challenges faced in modern building enclosure construction and approaches to mitigate these risks. By exploring both new construction projects and the maintenance and repair of existing facilities\, we provide valuable insights into effective risk management strategies. Join us to learn how to safeguard your projects and ensure long-term durability and performance. \nThe session will be presented by:\nGreg Isaacs PE\, CxA+BE\, BECxP\, Principal\, Building Enclosure Services\, SSR \nRegister now!
URL:https://cmaasac.org/event/nashville-lunchandlearn/
LOCATION:SSR\, 2995 Sidco Drive\, Nashville\, 37204\, United States
CATEGORIES:Lunch & Learn,Nashville
END:VEVENT
END:VCALENDAR