BEGIN:VCALENDAR
VERSION:2.0
PRODID:-//CMAA South Atlantic Chapter - ECPv6.15.20//NONSGML v1.0//EN
CALSCALE:GREGORIAN
METHOD:PUBLISH
X-WR-CALNAME:CMAA South Atlantic Chapter
X-ORIGINAL-URL:https://cmaasac.org
X-WR-CALDESC:Events for CMAA South Atlantic Chapter
REFRESH-INTERVAL;VALUE=DURATION:PT1H
X-Robots-Tag:noindex
X-PUBLISHED-TTL:PT1H
BEGIN:VTIMEZONE
TZID:UTC
BEGIN:STANDARD
TZOFFSETFROM:+0000
TZOFFSETTO:+0000
TZNAME:UTC
DTSTART:20180101T000000
END:STANDARD
END:VTIMEZONE
BEGIN:VEVENT
DTSTART;TZID=UTC:20191022T163000
DTEND;TZID=UTC:20191022T193000
DTSTAMP:20260421T175230
CREATED:20190923T133241Z
LAST-MODIFIED:20191016T214549Z
UID:10000008-1571761800-1571772600@cmaasac.org
SUMMARY:Owners' Social October 2019
DESCRIPTION:Join CMAA SAC for our signature Owners’ Social event. Network with Owners and industry peers in a comfortable environment allowing for relationship building and productive conversations.
URL:https://cmaasac.org/event/owners-social-october-2019/
LOCATION:Mission + Market\, 3550 Lennox Road\, Suite 550\, Atlanta\, GA\, 30326\, United States
CATEGORIES:Owners' Socials
ATTACH;FMTTYPE=image/jpeg:https://cmaasac.org/wp-content/uploads/2019/10/Oct-2019-Owners-Socialv2.jpg
ORGANIZER;CN="CMAA SAC":MAILTO:info@cmaasac.org
END:VEVENT
END:VCALENDAR