BEGIN:VCALENDAR
VERSION:2.0
PRODID:-//CMAA South Atlantic Chapter - ECPv6.15.20//NONSGML v1.0//EN
CALSCALE:GREGORIAN
METHOD:PUBLISH
X-WR-CALNAME:CMAA South Atlantic Chapter
X-ORIGINAL-URL:https://cmaasac.org
X-WR-CALDESC:Events for CMAA South Atlantic Chapter
REFRESH-INTERVAL;VALUE=DURATION:PT1H
X-Robots-Tag:noindex
X-PUBLISHED-TTL:PT1H
BEGIN:VTIMEZONE
TZID:America/Chicago
BEGIN:DAYLIGHT
TZOFFSETFROM:-0600
TZOFFSETTO:-0500
TZNAME:CDT
DTSTART:20220313T080000
END:DAYLIGHT
BEGIN:STANDARD
TZOFFSETFROM:-0500
TZOFFSETTO:-0600
TZNAME:CST
DTSTART:20221106T070000
END:STANDARD
BEGIN:DAYLIGHT
TZOFFSETFROM:-0600
TZOFFSETTO:-0500
TZNAME:CDT
DTSTART:20230312T080000
END:DAYLIGHT
BEGIN:STANDARD
TZOFFSETFROM:-0500
TZOFFSETTO:-0600
TZNAME:CST
DTSTART:20231105T070000
END:STANDARD
BEGIN:DAYLIGHT
TZOFFSETFROM:-0600
TZOFFSETTO:-0500
TZNAME:CDT
DTSTART:20240310T080000
END:DAYLIGHT
BEGIN:STANDARD
TZOFFSETFROM:-0500
TZOFFSETTO:-0600
TZNAME:CST
DTSTART:20241103T070000
END:STANDARD
END:VTIMEZONE
BEGIN:VEVENT
DTSTART;TZID=America/Chicago:20230209T160000
DTEND;TZID=America/Chicago:20230209T183000
DTSTAMP:20260421T143639
CREATED:20230101T224503Z
LAST-MODIFIED:20230203T224958Z
UID:10000081-1675958400-1675967400@cmaasac.org
SUMMARY:Getting the Greenlight: Permitting Your Project in Music City
DESCRIPTION:Join CMAA Nashville for a panel discussion exploring the ins and outs of permitting your local project. Topics will include recent changes\, best practices\, and common pitfalls to avoid. \nPanelists Include: \n\nDiana Alarcon | Director for the Department of Transportation and Multimodal Infrastructure for Metropolitan Nashville Davidson County\nJoey Hargis | Metro Codes Zoning Administrator\, Metropolitan Government of Nashville and Davidson County\nSteve Mishu | Assistant Director – Permits (Codes Administration)\, Metropolitan Government of Nashville and Davidson County\nTasha Qualls | Sales Development Representative\, SAFEbuilt\nChandler Walker | Senior Design Engineer\, The Catalyst Design Group\n\nModerator:  Jim Hollis | Senior Project Manager\, Regional Hospitality Lead\, The Whiting-Turner Contracting Company \n\n$45.00 | Members\n$60.00 | Non-Member\nRegistration includes two drink tickets and light appetizers. \n\nREGISTER ONLINE\n\nEVENT SPONSOR \n \n  \n  \n  \n\nNASHVILLE FOUNDING SPONSORS \n         
URL:https://cmaasac.org/event/getting-the-green-light-nashville/
LOCATION:JE Dunn Construction\, 29 Hermitage Avenue\, Nashville\, 37210
CATEGORIES:Education,Happy Hour,Nashville
ATTACH;FMTTYPE=image/png:https://cmaasac.org/wp-content/uploads/2023/01/2023-OS-Permitting-02-09-NASH.png
ORGANIZER;CN="CMAA SAC":MAILTO:info@cmaasac.org
END:VEVENT
END:VCALENDAR