BEGIN:VCALENDAR
VERSION:2.0
PRODID:-//CMAA South Atlantic Chapter - ECPv6.15.20//NONSGML v1.0//EN
CALSCALE:GREGORIAN
METHOD:PUBLISH
X-WR-CALNAME:CMAA South Atlantic Chapter
X-ORIGINAL-URL:https://cmaasac.org
X-WR-CALDESC:Events for CMAA South Atlantic Chapter
REFRESH-INTERVAL;VALUE=DURATION:PT1H
X-Robots-Tag:noindex
X-PUBLISHED-TTL:PT1H
BEGIN:VTIMEZONE
TZID:UTC
BEGIN:STANDARD
TZOFFSETFROM:+0000
TZOFFSETTO:+0000
TZNAME:UTC
DTSTART:20220101T000000
END:STANDARD
END:VTIMEZONE
BEGIN:VEVENT
DTSTART;TZID=UTC:20230420T170000
DTEND;TZID=UTC:20230420T193000
DTSTAMP:20260421T210108
CREATED:20230316T181614Z
LAST-MODIFIED:20230316T181911Z
UID:10000086-1682010000-1682019000@cmaasac.org
SUMMARY:Owners Social
DESCRIPTION:Our signature Owners Socials are back. Join us for a great evening of food\, fun\, and networking at BrewDog Atlanta Outpost. \nThe taps are flowing with fresh craft beer from their Ohio brewery\, exciting & experimental brews from onsite brewing tanks and favourite guest beers from around the world. Hungry customers will be able to fuel up on a legendary menu of monster burgers & spicy hot wings as well as a popular range of plant-based dishes. \nRegister Here
URL:https://cmaasac.org/event/owners-social-2/
LOCATION:Brew Dog\, 112 Krog St NE\, Atlanta\, GA\, 30307\, United States
ATTACH;FMTTYPE=image/png:https://cmaasac.org/wp-content/uploads/2023/03/ATL-OS-23-04-20-1.png
END:VEVENT
END:VCALENDAR