BEGIN:VCALENDAR
VERSION:2.0
PRODID:-//CMAA South Atlantic Chapter - ECPv6.15.20//NONSGML v1.0//EN
CALSCALE:GREGORIAN
METHOD:PUBLISH
X-ORIGINAL-URL:https://cmaasac.org
X-WR-CALDESC:Events for CMAA South Atlantic Chapter
REFRESH-INTERVAL;VALUE=DURATION:PT1H
X-Robots-Tag:noindex
X-PUBLISHED-TTL:PT1H
BEGIN:VTIMEZONE
TZID:UTC
BEGIN:STANDARD
TZOFFSETFROM:+0000
TZOFFSETTO:+0000
TZNAME:UTC
DTSTART:20200101T000000
END:STANDARD
END:VTIMEZONE
BEGIN:VEVENT
DTSTART;TZID=UTC:20211201T170000
DTEND;TZID=UTC:20211201T193000
DTSTAMP:20260421T162151
CREATED:20211105T124152Z
LAST-MODIFIED:20211130T210204Z
UID:10000058-1638378000-1638387000@cmaasac.org
SUMMARY:Dec 1 Holiday Social
DESCRIPTION:Join CMAA SAC for a seasonal twist of celebration our signature Owners’ Social event as we network with Owners and industry peers in a comfortable environment allowing for relationship building and productive conversations. \n \n  \nThank you to our Event Champion: Paige Parnell of S.L. King \nThank you to our Event Sponsors: Actalent | Terracon \n\nOwners’ Social Sponsorships Available – $500 member firm | $700 non-member firm Sponsorship Benefits \n– Complimentary registration for two (2) company representatives\n– Receive verbal and visual recognition prior to and during event\n– Company logo to appear on all event promotional material\n– Company logo to continuously loop on TV monitors during event (as permitted by event venue)\n– Recognition signage displayed at event\n– Display marketing materials during event\n– One company representative to receive 1-2 minutes for introductions and description of company’s services\, products\, etc.\n– Provide door prizes for raffle drawing if desired \nContact info@cmaasac.org if you have questions or need more information
URL:https://cmaasac.org/event/dec-1-holiday-social/
LOCATION:Biltong Bar Buckhead\, 306 Buckhead Avenue\, Atlanta\, GA\, 30305\, United States
CATEGORIES:Gives Back,Happy Hour,Owners' Socials
ATTACH;FMTTYPE=image/png:https://cmaasac.org/wp-content/uploads/2021/11/Holiday-Party-2021-v3.png
ORGANIZER;CN="CMAA SAC":MAILTO:info@cmaasac.org
END:VEVENT
END:VCALENDAR