BEGIN:VCALENDAR
VERSION:2.0
PRODID:-//CMAA South Atlantic Chapter - ECPv6.15.20//NONSGML v1.0//EN
CALSCALE:GREGORIAN
METHOD:PUBLISH
X-WR-CALNAME:CMAA South Atlantic Chapter
X-ORIGINAL-URL:https://cmaasac.org
X-WR-CALDESC:Events for CMAA South Atlantic Chapter
REFRESH-INTERVAL;VALUE=DURATION:PT1H
X-Robots-Tag:noindex
X-PUBLISHED-TTL:PT1H
BEGIN:VTIMEZONE
TZID:America/New_York
BEGIN:DAYLIGHT
TZOFFSETFROM:-0500
TZOFFSETTO:-0400
TZNAME:EDT
DTSTART:20230312T070000
END:DAYLIGHT
BEGIN:STANDARD
TZOFFSETFROM:-0400
TZOFFSETTO:-0500
TZNAME:EST
DTSTART:20231105T060000
END:STANDARD
BEGIN:DAYLIGHT
TZOFFSETFROM:-0500
TZOFFSETTO:-0400
TZNAME:EDT
DTSTART:20240310T070000
END:DAYLIGHT
BEGIN:STANDARD
TZOFFSETFROM:-0400
TZOFFSETTO:-0500
TZNAME:EST
DTSTART:20241103T060000
END:STANDARD
BEGIN:DAYLIGHT
TZOFFSETFROM:-0500
TZOFFSETTO:-0400
TZNAME:EDT
DTSTART:20250309T070000
END:DAYLIGHT
BEGIN:STANDARD
TZOFFSETFROM:-0400
TZOFFSETTO:-0500
TZNAME:EST
DTSTART:20251102T060000
END:STANDARD
END:VTIMEZONE
BEGIN:VEVENT
DTSTART;TZID=America/New_York:20240613T180000
DTEND;TZID=America/New_York:20240613T210000
DTSTAMP:20260421T192320
CREATED:20240123T184738Z
LAST-MODIFIED:20240517T163900Z
UID:10000107-1718301600-1718312400@cmaasac.org
SUMMARY:2024 CMAA-SAC Annual Gala & Project Achievement Awards
DESCRIPTION:Join CMAA-SAC at the Atlanta History Center on June 13 as we celebrate the year and confer the 2024 Project Achievement Awards to some incredible projects and teams. During cocktail hour\, the exhibits will be open for exploration\, we have a digital Photo Booth to capture all the celebrations\, in addition to our regular photographer. Sponsorships are now available\, registration is open and we look forward to seeing you there! \nSponsorships are available to fit every business goal and budget! \nRegister Online
URL:https://cmaasac.org/event/2024-cmaa-sac-gala-project-achievement-awards/
LOCATION:Atlanta History Center\, 130 West Paces Ferry Road NW\, Atlanta\, GA\, 30305\, United States
CATEGORIES:Atlanta,Gala,Project Achievement Awards,Scholarships
ATTACH;FMTTYPE=image/png:https://cmaasac.org/wp-content/uploads/2024/05/cmaa-gala24.png
END:VEVENT
END:VCALENDAR