BEGIN:VCALENDAR
VERSION:2.0
PRODID:-//CMAA South Atlantic Chapter - ECPv6.15.20//NONSGML v1.0//EN
CALSCALE:GREGORIAN
METHOD:PUBLISH
X-WR-CALNAME:CMAA South Atlantic Chapter
X-ORIGINAL-URL:https://cmaasac.org
X-WR-CALDESC:Events for CMAA South Atlantic Chapter
REFRESH-INTERVAL;VALUE=DURATION:PT1H
X-Robots-Tag:noindex
X-PUBLISHED-TTL:PT1H
BEGIN:VTIMEZONE
TZID:UTC
BEGIN:STANDARD
TZOFFSETFROM:+0000
TZOFFSETTO:+0000
TZNAME:UTC
DTSTART:20240101T000000
END:STANDARD
END:VTIMEZONE
BEGIN:VEVENT
DTSTART;TZID=UTC:20250529T133000
DTEND;TZID=UTC:20250529T163000
DTSTAMP:20260421T143135
CREATED:20250414T212920Z
LAST-MODIFIED:20250414T214210Z
UID:10000129-1748525400-1748536200@cmaasac.org
SUMMARY:May Volunteer Event
DESCRIPTION:Come volunteer with CMAA-SAC at the Hunger Action Center at the Atlanta Community Food Bank on Thursday\, May 29th. We will be working together to prepare donations for distribution across the Metro-Atlanta area.\n\nPlease arrive 10 minutes prior to the shift start time to check-in. Orientation begins promptly at the start of the shift. Late volunteers may be unable to serve.\n\nOnce registered\, please complete this waiver:  https://vhub.at/CMAASAC\n \n*Please consider bringing as many nonperishable items as you can!\n\n\nREGISTER HERE\n\n——————————-\n\nAbout the Hunger Action Center:  \nThe Hunger Action Center provides a great hands-on experience in a diverse and social atmosphere. Groups and individual volunteers come together to inspect\, sort\, and pack quality grocery donations to prepare for distribution to nearly 700 partner agencies across Georgia.\n\nFood Donations: With 1 in every 9 Georgians at risk of hunger\, the number of people requesting emergency food assistance continues to grow. If every volunteer visiting our Hunger Action Center brings just two cans of food\, we would be able to provide approximately 2\,750 additional meals each month!\n\nDress Code: Closed-toe and closed-heel shoes are required\, with sneakers or work boots recommended. Flip flops\, Crocs\, sandals or heeled shoes are not allowed. Please wear comfortable clothing which you do not mind getting a bit rumpled. Some volunteers will be sorting refrigerated product. Please wear long pants and bring a sweatshirt or light jacket with you. In the event you are working elsewhere\, we do have lockers onsite to place your outerwear.
URL:https://cmaasac.org/event/mayvolunteer/
LOCATION:Atlanta Community Food Bank\, 3400 North Desert Drive\, Atlanta\, GA\, 30344\, United States
CATEGORIES:Atlanta,Gives Back
ORGANIZER;CN="CMAA SAC":MAILTO:info@cmaasac.org
END:VEVENT
END:VCALENDAR