BEGIN:VCALENDAR
VERSION:2.0
PRODID:-//CMAA South Atlantic Chapter - ECPv6.15.20//NONSGML v1.0//EN
CALSCALE:GREGORIAN
METHOD:PUBLISH
X-ORIGINAL-URL:https://cmaasac.org
X-WR-CALDESC:Events for CMAA South Atlantic Chapter
REFRESH-INTERVAL;VALUE=DURATION:PT1H
X-Robots-Tag:noindex
X-PUBLISHED-TTL:PT1H
BEGIN:VTIMEZONE
TZID:UTC
BEGIN:STANDARD
TZOFFSETFROM:+0000
TZOFFSETTO:+0000
TZNAME:UTC
DTSTART:20190101T000000
END:STANDARD
END:VTIMEZONE
BEGIN:VEVENT
DTSTART;VALUE=DATE:20201026
DTEND;VALUE=DATE:20201114
DTSTAMP:20260421T175214
CREATED:20201028T170333Z
LAST-MODIFIED:20201028T170334Z
UID:10000049-1603670400-1605311999@cmaasac.org
SUMMARY:FALL 2020 | CMAA SAC Gives Back
DESCRIPTION:CMAA-SAC is proud to partner with Hosea Feed The Hungry. It’s a long standing history in the Atlanta community of serving those in need.  This being our first year\, our efforts are focused largely in the Atlanta area. As we continue to establish and develop our CMAA communities in other areas within our region\, we will look to incorporate efforts local to those areas as well. \nOur first campaign of the year is currently underway. You can now donate items at any of the locations listed on our website or donate money during event registration as an add on. All funds collected will be used to purchase needed items and all donations will be delivered to Hosea Feed The Hungry on November 16 in time for them complete the holiday boxes they are preparing for those in need. \nIn addition to the holiday boxes\, Hosea Feed The Hungry\, will still be feeding those in need for Thanksgiving\, but during the time of COVID-19\, the distribution and dining plan must change and they are working hard to adapt their methods to still meet the needs.
URL:https://cmaasac.org/event/fall-2020-cmaa-sac-gives-back/
LOCATION:GA\, United States
CATEGORIES:Gives Back
ATTACH;FMTTYPE=image/jpeg:https://cmaasac.org/wp-content/uploads/2020/10/CMAA-Gives-Back-FALL.jpg
ORGANIZER;CN="CMAA SAC":MAILTO:info@cmaasac.org
END:VEVENT
END:VCALENDAR