BEGIN:VCALENDAR
VERSION:2.0
PRODID:-//CMAA South Atlantic Chapter - ECPv6.15.20//NONSGML v1.0//EN
CALSCALE:GREGORIAN
METHOD:PUBLISH
X-ORIGINAL-URL:https://cmaasac.org
X-WR-CALDESC:Events for CMAA South Atlantic Chapter
REFRESH-INTERVAL;VALUE=DURATION:PT1H
X-Robots-Tag:noindex
X-PUBLISHED-TTL:PT1H
BEGIN:VTIMEZONE
TZID:UTC
BEGIN:STANDARD
TZOFFSETFROM:+0000
TZOFFSETTO:+0000
TZNAME:UTC
DTSTART:20200101T000000
END:STANDARD
END:VTIMEZONE
BEGIN:VEVENT
DTSTART;TZID=UTC:20210304T080000
DTEND;TZID=UTC:20210305T170000
DTSTAMP:20260421T192306
CREATED:20200811T044725Z
LAST-MODIFIED:20200811T044725Z
UID:10000038-1614844800-1614963600@cmaasac.org
SUMMARY:Industry Event: CEFGA Career Expo
DESCRIPTION:Details TBD
URL:https://cmaasac.org/event/industry-event-cefga-career-expo/
LOCATION:GA\, United States
ORGANIZER;CN="CMAA SAC":MAILTO:info@cmaasac.org
END:VEVENT
END:VCALENDAR