BEGIN:VCALENDAR
VERSION:2.0
PRODID:-//CMAA South Atlantic Chapter - ECPv6.15.20//NONSGML v1.0//EN
CALSCALE:GREGORIAN
METHOD:PUBLISH
X-WR-CALNAME:CMAA South Atlantic Chapter
X-ORIGINAL-URL:https://cmaasac.org
X-WR-CALDESC:Events for CMAA South Atlantic Chapter
REFRESH-INTERVAL;VALUE=DURATION:PT1H
X-Robots-Tag:noindex
X-PUBLISHED-TTL:PT1H
BEGIN:VTIMEZONE
TZID:UTC
BEGIN:STANDARD
TZOFFSETFROM:+0000
TZOFFSETTO:+0000
TZNAME:UTC
DTSTART:20190101T000000
END:STANDARD
END:VTIMEZONE
BEGIN:VEVENT
DTSTART;TZID=UTC:20200617T163000
DTEND;TZID=UTC:20200617T193000
DTSTAMP:20260421T192313
CREATED:20200414T142413Z
LAST-MODIFIED:20200609T102318Z
UID:10000026-1592411400-1592422200@cmaasac.org
SUMMARY:2020 Scholarship Entries Due
DESCRIPTION:2020 Scholarship Opportunities \nThe Construction Management Association of America South Atlantic Chapter is an organization dedicated to leading the growth and acceptance of professions in the Architecture\, Engineering\, and Construction (AEC) Industry that can add significant value to the entire design and construction process\, from conception to ongoing operation. To promote CMAA’s objectives\, the South Atlantic Chapter is offering academic scholarships to full‐time students pursuing a related degree to architecture\, engineering\, or construction management. \n\n\n\n\nUndergraduate / Graduate Scholarship:  Learn More\nTools of the Trade Scholarship:  Learn More\nDylan Thomas Scholarship:  Learn More\n\n\n\n\nAbout the Foundation \nThe CMAA-SAC Scholarship Foundation\, a 501(c)3 charitable organization\, will award a limited number of scholarships to qualified students as part of the Chapter’s ongoing efforts to provide the construction and design industries with a trained\, educated workforce. \nWith the South Atlantic Region and most parts of the country facing a construction workforce shortage\, CMAA-SAC decided the best way to help alleviate the problem was to have a dedicated foundation focused on the success\, not only of students in construction and architecture programs\, but those striving for trade degrees through the Technical College System of Georgia (TCSG).  The goal is to promote and enhance the delivery of the built environment by providing opportunities for continuous learning and improvement in the design\, construction and industry trades through professional development and practice. \nThe CMAA-SAC Scholarship Foundation is a self-supporting scholarship program and is a 501 (c) 3 designated organization so contributions are tax deductible as a charitable donation.
URL:https://cmaasac.org/event/2020-scholarship-entries-due/
LOCATION:GA\, United States
CATEGORIES:Scholarships
ATTACH;FMTTYPE=image/png:https://cmaasac.org/wp-content/uploads/2020/04/2020-Scholarship-Entries-extended.png
ORGANIZER;CN="CMAA SAC":MAILTO:info@cmaasac.org
END:VEVENT
END:VCALENDAR