BEGIN:VCALENDAR
VERSION:2.0
PRODID:-//CMAA South Atlantic Chapter - ECPv6.15.20//NONSGML v1.0//EN
CALSCALE:GREGORIAN
METHOD:PUBLISH
X-ORIGINAL-URL:https://cmaasac.org
X-WR-CALDESC:Events for CMAA South Atlantic Chapter
REFRESH-INTERVAL;VALUE=DURATION:PT1H
X-Robots-Tag:noindex
X-PUBLISHED-TTL:PT1H
BEGIN:VTIMEZONE
TZID:UTC
BEGIN:STANDARD
TZOFFSETFROM:+0000
TZOFFSETTO:+0000
TZNAME:UTC
DTSTART:20180101T000000
END:STANDARD
END:VTIMEZONE
BEGIN:VEVENT
DTSTART;TZID=UTC:20191119T070000
DTEND;TZID=UTC:20191119T090000
DTSTAMP:20260421T173420
CREATED:20191007T032602Z
LAST-MODIFIED:20191118T165749Z
UID:10000010-1574146800-1574154000@cmaasac.org
SUMMARY:November 19 Breakfast Meeting
DESCRIPTION:Join CMAA-SAC for our November breakfast meeting Convergence of Education: Interrelation of facilities design and construction across all stages of education. \nEducational Facilities whether they are Primary\, Secondary\, Post Secondary\, Trade\, Technical Colleges\, Charter\, Private\, or Public\, share the same end goal – support students and teachers by providing a safe\, healthy\, engaging environment for teaching and learning. Each has a variety of variables impacting their individual approaches to achieving this goal. \nHear from representatives from all areas of the educational  as they discuss the similarities and differences in their institution’s approach to and priorities for facilities design and construction. Gain an understanding of the funding mechanisms of each and their procurement processes. \nModerated by Bill Clark with Stevens & Wilkinson\, this program promises insight into methodology of each representative and their respective system/institution. Learn about trends\, partnerships\, overlaps\, and outlooks of each facet of the educational landscape. \n \n  \nPANELISTS:\nPat Schofill\, Georgia Department of Education  |  Lawrence Schall\, Oglethorpe University  |  Sharon Pope\, Board of Regents of the University System of Georgia  |  Carmen Cureton\, Georgia State Financing & Investment Commission  |  Sara Honeywill\, Technical College System of Georgia \nMODERATOR:\nBill Clark | Stevens & Wilkinson \n\nThank you to our sponsors:\nPGAL | New South Construction | Uzun + Case \nThank you to our Event Champion: Laura Garrett of Albion
URL:https://cmaasac.org/event/november-19-breakfast-meeting/
LOCATION:GA\, United States
CATEGORIES:Breakfast Meeting
ATTACH;FMTTYPE=image/jpeg:https://cmaasac.org/wp-content/uploads/2019/10/CMAA-Nov-2019-Bkfst-v3.jpg
ORGANIZER;CN="CMAA SAC":MAILTO:info@cmaasac.org
END:VEVENT
END:VCALENDAR