BEGIN:VCALENDAR
VERSION:2.0
PRODID:-//CMAA South Atlantic Chapter - ECPv6.15.20//NONSGML v1.0//EN
CALSCALE:GREGORIAN
METHOD:PUBLISH
X-ORIGINAL-URL:https://cmaasac.org
X-WR-CALDESC:Events for CMAA South Atlantic Chapter
REFRESH-INTERVAL;VALUE=DURATION:PT1H
X-Robots-Tag:noindex
X-PUBLISHED-TTL:PT1H
BEGIN:VTIMEZONE
TZID:America/New_York
BEGIN:DAYLIGHT
TZOFFSETFROM:-0500
TZOFFSETTO:-0400
TZNAME:EDT
DTSTART:20210314T070000
END:DAYLIGHT
BEGIN:STANDARD
TZOFFSETFROM:-0400
TZOFFSETTO:-0500
TZNAME:EST
DTSTART:20211107T060000
END:STANDARD
BEGIN:DAYLIGHT
TZOFFSETFROM:-0500
TZOFFSETTO:-0400
TZNAME:EDT
DTSTART:20220313T070000
END:DAYLIGHT
BEGIN:STANDARD
TZOFFSETFROM:-0400
TZOFFSETTO:-0500
TZNAME:EST
DTSTART:20221106T060000
END:STANDARD
BEGIN:DAYLIGHT
TZOFFSETFROM:-0500
TZOFFSETTO:-0400
TZNAME:EDT
DTSTART:20230312T070000
END:DAYLIGHT
BEGIN:STANDARD
TZOFFSETFROM:-0400
TZOFFSETTO:-0500
TZNAME:EST
DTSTART:20231105T060000
END:STANDARD
BEGIN:DAYLIGHT
TZOFFSETFROM:-0500
TZOFFSETTO:-0400
TZNAME:EDT
DTSTART:20240310T070000
END:DAYLIGHT
BEGIN:STANDARD
TZOFFSETFROM:-0400
TZOFFSETTO:-0500
TZNAME:EST
DTSTART:20241103T060000
END:STANDARD
END:VTIMEZONE
BEGIN:VEVENT
DTSTART;TZID=America/New_York:20231213T173000
DTEND;TZID=America/New_York:20231213T200000
DTSTAMP:20260421T031948
CREATED:20231025T081947Z
LAST-MODIFIED:20231207T182208Z
UID:10000101-1702488600-1702497600@cmaasac.org
SUMMARY:Joint Holiday Social presented by CMAA-SAC\, COAA-GA and DBIA-SE Georgia Chapter
DESCRIPTION:Join CMAA-SAC and DBIA-SE Georgia Chapter at the Piedmont Room at Park Tavern for a joint holiday networking social! Bring your business cards and winning personalities to network among and with these two spectacular groups. Don’t forget to wear your festive best. \nRegistration includes appetizers and 2 drink tickets. \nSponsorships are available and include 2 registrations. \n\n$600 | MWBE FIRMS\n$800 | INDUSTRY FIRMS\n\nCOMMUNITY SUPPORT \nFor this event\, we are again supporting our community and accepting donations of the following items to support Friends of Refugees. \nSpecific items in need include: \n\nfleece blankets\nknit blankets\numbrellas\nAmazon/Target/Walmart/Visa gift cards\nAmazon Infant Car Seat\nSpecific school supplies and books ( click here for amazon wishlist)\n\nIt is important that items are new\, and\, as much as possible\, of the same brand/style since we will hand out to multiple people in the same groups– just makes it more simple and uniform when it comes to distribution. \n\nREGISTER ONLINE
URL:https://cmaasac.org/event/joint-holiday-social-presented-by-cmaa-sac-coaa-ga-and-dbia-se-georgia-chapter-2/
LOCATION:Park Tavern\, 500 10th Street NE\, Atlanta\, GA\, 30309\, United States
CATEGORIES:Atlanta,Gives Back,Happy Hour,Industry Event,Owners' Socials
ATTACH;FMTTYPE=image/jpeg:https://cmaasac.org/wp-content/uploads/2023/10/jointsocial127-scaled.jpg
ORGANIZER;CN="CMAA SAC":MAILTO:info@cmaasac.org
END:VEVENT
BEGIN:VEVENT
DTSTART;TZID=America/New_York:20230518T153000
DTEND;TZID=America/New_York:20230518T183000
DTSTAMP:20260421T031948
CREATED:20230416T132713Z
LAST-MODIFIED:20230508T151536Z
UID:10000089-1684423800-1684434600@cmaasac.org
SUMMARY:Joint Owners Panel and Networking Social
DESCRIPTION:Join CMAA-SAC and DBIA-SE for a joint event in beautiful downtown Greenville. Kick off the afternoon with a panel of esteemed Owners discussing the value of varied delivery methods\, lessons learned\, upcoming work and more. Wrap up (or kickstart the evening) upstairs at On the Roof for a networking social with all your new friends and colleagues from the panel event. \nPRICING:\n$55 | Individual Ticket (includes educational session\, drink ticket and appetizers during networking social \nSPONSORSHIPS:\n$600 | Event Sponsorship (includes two attendees\, logo recognition on all marketing materials\, website and emails)\n$1\,000 | Presenting Sponsorship (includes three attendees\, logo recognition on all marketing materials\, website and emails\, opportunity to address full audience during opening remarks\, attendee list) – ONLY 3 AVAILABLE \nREGISTER ONLINE\nHotel
URL:https://cmaasac.org/event/joint-owners-panel-and-networking-social/
LOCATION:Embassy Suites Greenville Downtown Riverfront\, 250 Riverplace\, Greenville\, SC\, 29601\, United States
CATEGORIES:Education,Happy Hour,Industry Event,Owners' Socials
ATTACH;FMTTYPE=image/png:https://cmaasac.org/wp-content/uploads/2023/04/May18-Joint-Event-Greenville.png
ORGANIZER;CN="CMAA SAC":MAILTO:info@cmaasac.org
END:VEVENT
BEGIN:VEVENT
DTSTART;TZID=America/New_York:20221215T163000
DTEND;TZID=America/New_York:20221215T193000
DTSTAMP:20260421T031948
CREATED:20221025T210820Z
LAST-MODIFIED:20221214T201023Z
UID:10000076-1671121800-1671132600@cmaasac.org
SUMMARY:Joint Holiday Social presented by CMAA-SAC\, COAA-GA and DBIA-SE Georgia Chapter
DESCRIPTION:Join CMAA-SAC\, COAA Georgia Chapter and DBIA-SE Georgia Chapter at the Piedmont Room at Park Tavern for a joint holiday networking social! Bring your business cards and winning personalities to network among and with these two spectacular groups. Don’t forget to wear your festive best. For this event\, we are supporting Communities In Schools. Please bring an item or items of gently used winter clothing to donate at the event. You may also make a cash donation during registration. Registration includes appetizers and 2 drink tickets. Sponsorships are available and include 2 registrations. $600 | MWBE FIRMS $800 | INDUSTRY FIRMS \n\nREGISTER ONLINE
URL:https://cmaasac.org/event/joint-holiday-social-presented-by-cmaa-sac-coaa-ga-and-dbia-se-georgia-chapter/
LOCATION:Park Tavern\, 500 10th Street NE\, Atlanta\, GA\, 30309\, United States
CATEGORIES:Atlanta,Gives Back,Happy Hour,Industry Event,Owners' Socials
ATTACH;FMTTYPE=image/png:https://cmaasac.org/wp-content/uploads/2022/12/ATL-JS-22-12-15-v8.png
ORGANIZER;CN="CMAA SAC":MAILTO:info@cmaasac.org
END:VEVENT
END:VCALENDAR