BEGIN:VCALENDAR
VERSION:2.0
PRODID:-//CMAA South Atlantic Chapter - ECPv6.15.20//NONSGML v1.0//EN
CALSCALE:GREGORIAN
METHOD:PUBLISH
X-WR-CALNAME:CMAA South Atlantic Chapter
X-ORIGINAL-URL:https://cmaasac.org
X-WR-CALDESC:Events for CMAA South Atlantic Chapter
REFRESH-INTERVAL;VALUE=DURATION:PT1H
X-Robots-Tag:noindex
X-PUBLISHED-TTL:PT1H
BEGIN:VTIMEZONE
TZID:UTC
BEGIN:STANDARD
TZOFFSETFROM:+0000
TZOFFSETTO:+0000
TZNAME:UTC
DTSTART:20190101T000000
END:STANDARD
END:VTIMEZONE
BEGIN:VEVENT
DTSTART;TZID=UTC:20210114T173000
DTEND;TZID=UTC:20210114T193000
DTSTAMP:20260421T143727
CREATED:20210105T004647Z
LAST-MODIFIED:20210112T180940Z
UID:10000051-1610645400-1610652600@cmaasac.org
SUMMARY:Virtual New Year's Happy Hour 2021
DESCRIPTION:Come network with owners and industry peers and celebrate the end of 2020 and kick-off 2021 at the CMAA-SAC Virtual Happy Hour. \nSay good-bye to 2020 and kick-off 2021 with CMAA-SAC at our Virtual New Year’s Happy Hour. We will spend the evening networking and constructing some cocktails with special guest Cory Atkinson of Elemental Spirits who will walk us through all the steps to make our top shelf cocktails. \nJoin us anytime during the event\, but be online by 6:00 PM to participate in the cocktail construction tutorial with Cory Atkinson of Elemental Spirits. \nIf you’re in the Atlanta Metro area\, purchase your complete cocktail kit with all the ingredients for only $25 during registration and pick up at Elemental Spirits up until January 14. \n \n  \nPricing:\nOwners*: Complimentary\nCMAA-SAC Members: $10\nStudents: $5\nNon-Members: $15\nCocktail Kit (OPTIONAL): $25 (must pick up at Elemental Spirits) \nThe Virtual Happy Hour promises to be an excellent opportunity for: \n\nComfortable\, productive conversations between Owners and CMs\nRelationship building that is good for businesses\, Owners and CMAA\nInformation about current trends in the market/ industry\nAccess to potential bidders/ consultants and other Owners representing multiple market sectors\n\n*An “Owner” refers to an individual from an organization/corporation utilizing (not providing) CM services\, either in-house or outsourced. \n\nThank you to our Event Sponsor: S. L. King & Associates \nThank you to our Event Champion: Paige Parnell of Site Solutions \n\nOwners’ Social Sponsorships Available – $250 member firm | $300 non-member firm Sponsorship Benefits \n\n5 individual registrations to selected meeting with reserved seating\nLogo on all marketing materials\nOpportunity to address audience for 1 minute during intro of session\nOne slide included in presentation deck\nAttendee list\nSocial media promotion\nRecognition in quarterly newsletter Building Connections\n\nContact info@cmaasac.org if you have questions or need more information
URL:https://cmaasac.org/event/virtual-new-years-happy-hour-2021/
LOCATION:Zoom Webinar\, Georgia\, United States
CATEGORIES:Happy Hour,Owners' Socials,Virtual
ATTACH;FMTTYPE=image/jpeg:https://cmaasac.org/wp-content/uploads/2021/01/CMAA-Jan-2021-VHHH-v3.jpg
ORGANIZER;CN="CMAA SAC":MAILTO:info@cmaasac.org
END:VEVENT
BEGIN:VEVENT
DTSTART;TZID=UTC:20201201T100000
DTEND;TZID=UTC:20201201T113000
DTSTAMP:20260421T143727
CREATED:20200811T043927Z
LAST-MODIFIED:20201125T175248Z
UID:10000032-1606816800-1606822200@cmaasac.org
SUMMARY:December 1 Virtual Market Meeting
DESCRIPTION:Healthcare Trends: Changing Landscape Across Facilities \nJoin the CMAA-SAC at a December Virtual Market Meeting where we will be discussing the upcoming the trends in Healthcare and the changing landscape across varying types of facilities throughout the Southeast Region. We will be joined by an esteemed panel representing entities across the Southeast and beyond. They will offer their perspectives on the ever changing healthcare facilities planning\, funding\, design\, and construction made ever more complex by the pandemic. \nStick around for small group networking with the panelists from 11:00 – 11:30 AM ET. \nPANELISTS:\nCheryl Crosby | Amsurg\nBilly Hayes | Northside Cherokee Hospital\nKristen Herman\, CHS | Medxcel/Ascension\nBen Sousa | Turner Construction \nMODERATOR:\nLaura Register\, PE | Terracon \n \n  \n\nThank you to our sponsors:\nTerracon | Turner Construction | Uzun + Case \nThank you to our Event Champions: Laura Garrett of Albion \n\nMeet the Panelists: \nCheryl Crosby | Amsurg\nCheryl Crosby is the Vice-President of the Facilities Management and Construction Department at AmSurg in Nashville\, TN.  AmSurg has partnered with physicians and hospitals in the development\, management and operation of 250+ surgery centers throughout the United States. Cheryl has been with AmSurg eighteen years and in the construction industry for thirty plus years.  Prior to working with AmSurg\, she held executive roles in both the traditional and design-build sectors of the construction industry.  She has been a leader in and has received honors from the Construction Specifications Institute.  Cheryl currently serves on the Health Guidelines Revision Committee for the 2022 outpatient sector of the Facility Guidelines Institute.  She holds a degree in Civil Engineering from the University of Tennessee\, Knoxville. \n\nBilly Hayes | Northside Cherokee Hospital\nBilly Hayes\, native of Gadsden\, Alabama\, has over twenty years’ experience in the healthcare arena\, and has served as the Chief Executive Officer of Northside Hospital-Cherokee since 2004. Billy received his Undergraduate degree in Accounting and Finance from Jacksonville State University\, an Executive MBA from Kennesaw State University and was honored as the 2006 Alumni of the Year by Kennesaw State University. Since joining Northside Hospital-Cherokee\, Billy has been influential in adding new service lines to the hospital and more than tripling the number of physicians on the medical staff.  Billy has been instrumental in the overall growth of Northside Hospital Cherokee and has been recognized as an outstanding leader in the community and in healthcare for many years. He continues to give his personal time by serving on numerous boards including Kennesaw State University Alumni Association and Board of Trustees\, Cherokee County Educational Foundation and United Community Bank. Billy resides in Cherokee County and has five children and five grandchildren. \n\nKristen Herman\, CHS | Medxcel/Ascension\nKristen Herman is a Regional Construction Manager for Medxcel/Ascension Health\, a leading non-profit Catholic Health System with over 2600 sites of care across the U.S.  Kristen leads Medxcel’s East Coast team\, executing more than $350M in healthcare construction projects annually. With a degree in Construction Management\, Kristen has managed construction projects\, programs\, and teams for more than 20years in the commercial environment\, including working within three major U.S. non-profit healthcare systems. \n  \n\nBen Sousa | Turner Construction \n  \n  \n  \n\nMODERATOR:\nLaura Register\, PE | Terracon\nLaura Register\, P.E.\, LEED®AP\, F. GBA is Principal and Vice President of Terracon Consultants\, serving as National Director for the Healthcare business sector. Terracon specializes in geotechnical and environmental engineering\, facility assessment and asset management\, construction monitoring and materials testing with 155 offices nationwide.  She leads the national initiative serving the healthcare industry and manages select national healthcare clients. Laura received her bachelor of engineering in civil engineering from Vanderbilt University.  She is a registered Professional Engineer in Tennessee and a LEED Accredited Professional.
URL:https://cmaasac.org/event/breakfast-meeting-3/
LOCATION:Zoom Webinar\, Georgia\, United States
CATEGORIES:Breakfast Meeting,Virtual,Webinar
ATTACH;FMTTYPE=image/jpeg:https://cmaasac.org/wp-content/uploads/2020/11/CMAA-Dec-2020-VMM-v4.jpg
ORGANIZER;CN="CMAA SAC":MAILTO:info@cmaasac.org
END:VEVENT
BEGIN:VEVENT
DTSTART;TZID=UTC:20201104T120000
DTEND;TZID=UTC:20201104T130000
DTSTAMP:20260421T143727
CREATED:20200811T043434Z
LAST-MODIFIED:20201028T170905Z
UID:10000029-1604491200-1604494800@cmaasac.org
SUMMARY:Virtual Lunch & Learn | Nov. 4
DESCRIPTION:Please join CMAA-SAC for our November 4 Lunch & Learn\nTopic: Paint 201 | High Performance Coatings for Commercial Spaces\nSponsored by: Sherwin-Williams \nCommercial and light industrial projects typically require high-performance coating solutions to provide optimal performance against abrasion\, chemicals\, moisture and other harsh conditions common to these types of buildings. Technological advancements have created high-performance coatings that not only provide the aesthetics and durability your owners demand – there are also a variety of formulations that can help contribute towards green building certifications. \nThis course provides solutions to the most prevalent challenges found in busy commercial spaces so that you can specify the coatings best suited to the project type and conditions. We will also explore innovative coating technologies that combine performance benefits that meet the demands of commercial spaces as well as emit lower VOCs. \n \n  \nThe presentation will be comparable to AIA and will help you fulfill CEU’s for other organizations. Attendance Certificates will be made available to all attendees. Syllabus (1 hour CEU) \nAll proceeds will go towards funding the annual scholarships at our awards banquet in June. \nSpeaker Information: \nDwight LeClair\nArchitect and Commercial Design Account Executive for TN\, AL\, and Georgia South\nSherwin-Williams \nDwight’s key responsibilities are the introduction of new Architectural & Industrial products & Color tools to firms\, specification reviews & updates\, submittal reviews\, conducting CEU’s for various topics\, working with National & Regional retail specification clients for products & color. \nHe has been with Sherwin-Williams for 31 years\, started in January of 1989\, has held positions of responsibility such as: Sales Representative (Atlanta\, GA)\, Large volume store manager (Morrow\, GA)\, Atlanta District City Manager and as an Architectural Account Executive. \n\nTodd Hakenjos\, CSI\nArchitectural Account Executive\nSherwin-Williams \nTodd is the Architectural Account Executive covering Arkansas\, Louisiana\, Mississippi\, the Gulf Coast (Mobile\, AL) and the Florida Panhandle. He assists the commercial architectural and design community with specification and submittal review\, specification updates\, color tool updates\, CEU presentations and product knowledge including new and innovative paint technologies. \nTodd has been with the Sherwin Williams Company for 25 years and held various roles\, including: Store Manager\, New Store Manager\, Multi-segment Professional Coatings Sales Rep and Architectural Account Executive.
URL:https://cmaasac.org/event/lunch-learn-2/
LOCATION:Zoom Webinar\, Georgia\, United States
CATEGORIES:Lunch & Learn,Virtual,Webinar
ATTACH;FMTTYPE=image/png:https://cmaasac.org/wp-content/uploads/2020/08/11.04.png
ORGANIZER;CN="CMAA SAC":MAILTO:info@cmaasac.org
END:VEVENT
BEGIN:VEVENT
DTSTART;TZID=UTC:20201029T173000
DTEND;TZID=UTC:20201029T190000
DTSTAMP:20260421T143727
CREATED:20200811T043556Z
LAST-MODIFIED:20201022T132211Z
UID:10000031-1603992600-1603998000@cmaasac.org
SUMMARY:Owners' Social | October 2020
DESCRIPTION:Join CMAA SAC for our signature Virtual Owners’ Social event with a costume contest\, CMAA custom cocktail\, Halloween team trivia and more! Don’t miss this awesome event. Prizes for costume and trivia winners! \n \n  \nThank you to our sponsors: Rosemann & Associates | CBRE Heery | Moody Nolan \nThank you to our Event Champion: Paige Parnell of Site Solutions \n\nOwners’ Social Sponsorships Available – $250 member firm | $300 non-member firm Sponsorship Benefits \n\n5 individual registrations to selected meeting with reserved seating\nLogo on all marketing materials\nOpportunity to address audience for 1 minute during intro of session\nOne slide included in presentation deck\nAttendee list\nSocial media promotion\nRecognition in quarterly newsletter Building Connections\n\nContact info@cmaasac.org if you have questions or need more information
URL:https://cmaasac.org/event/owners-social/
LOCATION:Zoom Webinar\, Georgia\, United States
CATEGORIES:Owners' Socials,Virtual
ATTACH;FMTTYPE=image/png:https://cmaasac.org/wp-content/uploads/2020/10/Oct-2020-Owners-Social-v3.png
ORGANIZER;CN="CMAA SAC":MAILTO:info@cmaasac.org
END:VEVENT
BEGIN:VEVENT
DTSTART;TZID=UTC:20201020T090000
DTEND;TZID=UTC:20201020T100000
DTSTAMP:20260421T143727
CREATED:20200811T043520Z
LAST-MODIFIED:20201019T125633Z
UID:10000030-1603184400-1603188000@cmaasac.org
SUMMARY:October 20 Virtual Market Meeting
DESCRIPTION:MARTA Expansion: Transit Oriented Development and Related Infrastructure \nJoin the CMAA-SAC at a October Virtual Market Meeting where we will be discussing the upcoming MARTA refurbishment and expansion program and how this plan will impact development throughout Metro Atlanta. The panelists will be discussing a forecasted expenditure of $15B in construction related costs designated as essential maintenance\, facility upgrades\, vehicle upgrades\, streetcar\, light rail\, bus facilities and the Clayton County bus service expansion. \nPANELISTS:\nCarrie Rocha\, HNTB\nFrank Rucker\, MARTA\nMichael Russell\, HJ Russell \nMODERATOR:\nRhonda Briggins | Jacobs \n \n  \n\nThank you to our sponsors:\nJacobs | Multivista | Terracon \nThank you to our Event Champions: Ronnie Byrd of Turner Construction and Ron Davis of Jacobs \n\nMeet the Panelists: \nCarrie Rocha| HNTB\nCarrie Rocha\, PE\, is a vice president and office leader for HNTB’s Atlanta operations focused on Georgia\, Alabama and Tennessee. She has more than 20 years of experience delivering large infrastructure programs in a variety of markets including highways\, bridges\, tunnels\, transit/rail and aviation. Ultimately\, Carrie’s goal is to support transportation agencies in their initiatives to preserve infrastructure and to execute well-planned investments that have a positive impact on the local and regional economy. This industry allows her to interface with the public\, work with dedicated professionals\, influence overall mobility and help protect the environment for future generations. \nA registered professional engineer\, Rocha is a graduate of Worcester Polytechnic Institute (Worcester\, Mass.) with a Bachelor of Science in civil engineering. She is a past president of the Connecticut chapter of the Construction Management Association of America and held numerous leadership roles with both the Connecticut and Boston chapters of the Women’s Transportation Seminar. She has spoken at STEM programs in schools\, mentored underrepresented groups\, encouraging all interested in making a difference in transportation to get engaged. \n\nFrank Rucker | MARTAFranklin Rucker currently serves as the chief of capital programs\, expansion\, and innovation at the Metropolitan Atlanta Rapid Transit Authority (MARTA) and is responsible for implementing the agency’s transit expansion plans. \nMr. Rucker has over 37 years of experience in civil engineering design and project management\, with 20 years of progressive experience in the aviation facilities industry\, directing sophisticated design and construction projects. He served as the assistant general manager/program executive at Hartsfield-Jackson Atlanta International Airport. In this role\, he directed full-cycle program management of the capital improvement program\, valued at more than $6 billion. Additionally\, he led a team of 250 persons in the performance of planning\, procurement\, engineering\, project management\, construction management\, facilities management\, asset management\, sustainability\, and environmental assessment activities. \nMr. Rucker has a Bachelor of Science degree in civil engineering from the Georgia Institute of Technology and is a registered professional engineer in the state of Georgia. \n\n\nMichael Russell | H.J. Russell\nMichael Russell\, Chief Executive Officer\, succeeded his father Herman Russell\, who founded H. J. Russell & Company in 1952. A 30-year veteran of the construction and real estate development industry\, Michael is responsible for the management\, direction and overview of Russell’s operations. His responsibilities include the oversight of projects and monitoring all management activities to ensure that contractual and exceptional customer service obligations are met. \nMr. Russell earned his MBA from Georgia State and a BS in Civil Engineering from the University of Virginia. He was most recently recognized as 2019 Georgia Trend Top 100 Most Influential Georgians. \n\nMODERATOR: \nRhonda Briggins | Jacobs\nRhonda is a member of the executive management team at Jacobs Engineering as the Client Account Manager\, Vice President. She joined Jacobs after retiring at the age of 45 from the Metropolitan Atlanta Rapid Transit Authority (MARTA)\, where she served as the Senior Director of External Affairs for MARTA for over fifteen years. Under her leadership\, she led the Office of Government Relations and the Office of Community Affairs. \nShe brings over 20 plus years of professional experience in the arenas of federal\, state and local government affairs. She was primarily responsible for the development MARTA’s of public policy\, and community outreach strategies. In addition to the aforementioned\, she was chiefly responsible for the authority’s legislative initiatives amounting to billions of dollars in funding for the Authority’s operational and capital budget. She was instrumental in the passage of recent transit legislation amounting to over $10.9B in transportation funding. \nRecently\, she was ranked 11th after Keisha Lance Bottom\, the Mayor of Atlanta as one of the “Top 100 Influential Women in Georgia”. She has been featured in Glamour Magazine\, Time online magazine\, and other publications for her national and local political work training women to run for elected office. \nMrs. Briggins is a graduate of Georgia State University with a B.S. in Law and Society and earned a Juris Doctorate from Jones School of Law. She has a talented 13-year-old son\, Kai Ali.
URL:https://cmaasac.org/event/breakfast-meeting-2/
LOCATION:Zoom Webinar\, Georgia\, United States
CATEGORIES:Breakfast Meeting,Virtual,Webinar
ATTACH;FMTTYPE=image/jpeg:https://cmaasac.org/wp-content/uploads/2020/10/CMAA-Oct-2020-VMM-sponsors2.jpg
ORGANIZER;CN="CMAA SAC":MAILTO:info@cmaasac.org
END:VEVENT
BEGIN:VEVENT
DTSTART;TZID=UTC:20200929T090000
DTEND;TZID=UTC:20200929T100000
DTSTAMP:20260421T143727
CREATED:20191007T034651Z
LAST-MODIFIED:20200929T055233Z
UID:10000018-1601370000-1601373600@cmaasac.org
SUMMARY:September 29 Virtual Market Meeting
DESCRIPTION:The Corporate Office: What Does the Workplace of the Future Look Like? \nThe private commercial market is exploding across the Southeast with multiple corporate headquarters relocating for many reasons\, including our southern hospitality\, fair weather and ports access. What does this commercial growth mean for the AEC industry across the region and how is that shaping the physical environment? \nJoin CMAA SAC as we bring together an esteemed panel of representatives from some of the biggest players in the commercial game to share their insight into market trends\, overall impact to the region\, what work is on the horizon\, and how your firm can get a piece of the action. Schneider Electric’s Emily Violette will moderate the session featuring Shannon Kitzrow of JLL\, Brad Stolz of JE Dunn Construction\, Bill Morrison of Portman Holdings\, and David Brown with TVS Design. \nPANELISTS:\nShannon Kitzrow\, JLL\nBill Morrison\, Portman Holdings\nBrad Stolz\, JE Dunn Construction\nDavid Brown\, TVS Design \nMODERATOR:\nEmily Violette | Schneider Electric \n \n  \n\nThank you to our sponsors:\nJE Dunn Construction | Schneider Electric | Sherwin-Williams \nThank you to our Event Champion: Erin Grable with JE Dunn Construction \n\nMeet the Panelists: \nShannon Kitzrow | JLL\nMs. Kitzrow is a Vice President in the Project and Development Services group at JLL. Shannon provides leadership in the representation of the client’s interest in all aspects of design\, construction and occupancy. Shannon has 19 years of experience in design and project management. She is currently working with Inspire Brands on their headquarters relocation project. In addition\, she is providing project management services for BlackRock and McKinsey office locations in Atlanta. Shannon holds a Bachelor of Arts in Interior Design from the University of Georgia. \n\nBill Morrison | Portman Holdings\nBill Morrison serves as Portman Holdings’; as Vice President of Construction. He holds the Certified Construction Manager (CCM) and Leadership in Energy and Environmental Design Accredited Professional (LEED AP) designations and has been associated with 18 LEED designated projects during his 25-year career. \nBill has worked in owner’s representation and development roles with Carter & Associates\, Emory University\, Jones Lang LaSalle\, and most recently with Skanska where he was Vice President of Operations. \nHe graduated from Georgia Institute of Technology with a BS in Building Construction and has an MBA from Emory University’s Goizueta Business School. He serves on several committees with the College of Architecture at Georgia Institute of Technology and is involved in several civic organizations in the area. \n\nBrad Stolz\, LEED AP | JE Dunn Construction\nBrad Stolz is a 2006 graduate of Clemson University\, where he earned his BS in Civil Engineering. He is a LEED AP (BD+C) and is active with the American Society of Healthcare Engineering (ASHE) where he is a former Certified Healthcare Constructor. Brad joined the JE Dunn team in 2006 and serves as a Senior Project Manager in the Commercial group for the Atlanta office. \nBrad currently lives in Roswell\, GA with his wife Jamie\, 8-year-old daughter Taylor\, 4 year old son Logan. He enjoys running\, playing tennis\, hacking around the golf course and coaching / spectating his kids’ sports teams. \n\nDavid Brown | TVS Design\nDavid is a Principal and member of the TVS Design Board of Directors. He works with and leads architects and intern architects on the design and construction of mixed use\, commercial\, and corporate office projects. \nHe served as project manager and design architect of the Duke Energy Center\, the focal point of the Levine Center for the Arts in Charlotte\, North Carolina. In 2012 this project received the prestigious ULI Global Award for Excellence. \nDavid has successfully managed large scale projects in multiple cities and timezones\, making him an integral member of our growing international firm. He is an effective team leader\, and his hands-on approach to project delivery makes him a true player-coach. David creates an atmosphere of cooperation that is appreciated by the entire design team and the client. \nMODERATOR: \nEmily Violette | Schneider Electric\nEmily brings 20 years of engineering experience across the full spectrum of the design and construction industry. She has developed skillsets in MEP engineering\, building commissioning\, energy consulting\, sustainability program development and strategic procurement. Equally important\, her focus has always been to create opportunities within the context of all stakeholders involved. This people-focused commitment combined with a broad range of competencies has led her to a focus on our industry’s current challenge of integrating technology\, specifically how collaboration around technology solutions delivers an exceptional total value impact.
URL:https://cmaasac.org/event/september-29-breakfast-meeting/
LOCATION:Zoom Webinar\, Georgia\, United States
CATEGORIES:Breakfast Meeting,Virtual,Webinar
ATTACH;FMTTYPE=image/jpeg:https://cmaasac.org/wp-content/uploads/2019/10/CMAA-Sept-2020-Bkfst-v3.jpg
ORGANIZER;CN="CMAA SAC":MAILTO:info@cmaasac.org
END:VEVENT
END:VCALENDAR