BEGIN:VCALENDAR
VERSION:2.0
PRODID:-//CMAA South Atlantic Chapter - ECPv6.15.20//NONSGML v1.0//EN
CALSCALE:GREGORIAN
METHOD:PUBLISH
X-ORIGINAL-URL:https://cmaasac.org
X-WR-CALDESC:Events for CMAA South Atlantic Chapter
REFRESH-INTERVAL;VALUE=DURATION:PT1H
X-Robots-Tag:noindex
X-PUBLISHED-TTL:PT1H
BEGIN:VTIMEZONE
TZID:UTC
BEGIN:STANDARD
TZOFFSETFROM:+0000
TZOFFSETTO:+0000
TZNAME:UTC
DTSTART:20240101T000000
END:STANDARD
END:VTIMEZONE
BEGIN:VEVENT
DTSTART;TZID=UTC:20251030T080000
DTEND;TZID=UTC:20251030T140000
DTSTAMP:20260422T080708
CREATED:20250918T143909Z
LAST-MODIFIED:20250918T185326Z
UID:10000133-1761811200-1761832800@cmaasac.org
SUMMARY:2025 CMAA-SAC Sporting Clays Invitational
DESCRIPTION:Join us for our 2025 CMAA-SAC Sporting Clays Invitational at Garland Mountain. This event is the ideal opportunity to socialize and network with industry friends and owners/ clients. \nA portion of the proceeds will go to the CMAA-SAC Foundation which will benefit the Annual Scholarship Fund. \nREGISTER ONLINE
URL:https://cmaasac.org/event/2025-cmaa-sac-sporting-clays-invitational/
LOCATION:Garland Mountain Sporting Clays\, 2618 Garland Mountain Trail\, Waleska\, GA\, 30183\, United States
CATEGORIES:Sporting Clays
ATTACH;FMTTYPE=image/png:https://cmaasac.org/wp-content/uploads/2025/09/CMAA-SAC-2025-2026-Static-Final-.png
END:VEVENT
END:VCALENDAR