BEGIN:VCALENDAR
VERSION:2.0
PRODID:-//CMAA South Atlantic Chapter - ECPv6.15.20//NONSGML v1.0//EN
CALSCALE:GREGORIAN
METHOD:PUBLISH
X-WR-CALNAME:CMAA South Atlantic Chapter
X-ORIGINAL-URL:https://cmaasac.org
X-WR-CALDESC:Events for CMAA South Atlantic Chapter
REFRESH-INTERVAL;VALUE=DURATION:PT1H
X-Robots-Tag:noindex
X-PUBLISHED-TTL:PT1H
BEGIN:VTIMEZONE
TZID:America/New_York
BEGIN:DAYLIGHT
TZOFFSETFROM:-0500
TZOFFSETTO:-0400
TZNAME:EDT
DTSTART:20220313T070000
END:DAYLIGHT
BEGIN:STANDARD
TZOFFSETFROM:-0400
TZOFFSETTO:-0500
TZNAME:EST
DTSTART:20221106T060000
END:STANDARD
BEGIN:DAYLIGHT
TZOFFSETFROM:-0500
TZOFFSETTO:-0400
TZNAME:EDT
DTSTART:20230312T070000
END:DAYLIGHT
BEGIN:STANDARD
TZOFFSETFROM:-0400
TZOFFSETTO:-0500
TZNAME:EST
DTSTART:20231105T060000
END:STANDARD
BEGIN:DAYLIGHT
TZOFFSETFROM:-0500
TZOFFSETTO:-0400
TZNAME:EDT
DTSTART:20240310T070000
END:DAYLIGHT
BEGIN:STANDARD
TZOFFSETFROM:-0400
TZOFFSETTO:-0500
TZNAME:EST
DTSTART:20241103T060000
END:STANDARD
BEGIN:DAYLIGHT
TZOFFSETFROM:-0500
TZOFFSETTO:-0400
TZNAME:EDT
DTSTART:20250309T070000
END:DAYLIGHT
BEGIN:STANDARD
TZOFFSETFROM:-0400
TZOFFSETTO:-0500
TZNAME:EST
DTSTART:20251102T060000
END:STANDARD
BEGIN:DAYLIGHT
TZOFFSETFROM:-0500
TZOFFSETTO:-0400
TZNAME:EDT
DTSTART:20260308T070000
END:DAYLIGHT
BEGIN:STANDARD
TZOFFSETFROM:-0400
TZOFFSETTO:-0500
TZNAME:EST
DTSTART:20261101T060000
END:STANDARD
END:VTIMEZONE
BEGIN:VTIMEZONE
TZID:UTC
BEGIN:STANDARD
TZOFFSETFROM:+0000
TZOFFSETTO:+0000
TZNAME:UTC
DTSTART:20190101T000000
END:STANDARD
END:VTIMEZONE
BEGIN:VEVENT
DTSTART;TZID=America/New_York:20250612T180000
DTEND;TZID=America/New_York:20250612T210000
DTSTAMP:20260421T162032
CREATED:20250520T003845Z
LAST-MODIFIED:20250605T200806Z
UID:10000132-1749751200-1749762000@cmaasac.org
SUMMARY:2025 CMAA-SAC Annual Gala & Project Achievement Awards
DESCRIPTION:Join CMAA-SAC at The Foundry at Puritan Mill on June 12 as we celebrate the year and confer the 2025 Project Achievement Awards to some incredible projects and teams. \nSponsorships are now available\, registration is open and we look forward to seeing you there! \nRegister Online
URL:https://cmaasac.org/event/2025-cmaa-sac-annual-gala-project-achievement-awards/
LOCATION:The Foundry at Puritan Mill\, 916 Joseph E. Lowery Blvd NW\, Atlanta\, GA\, 30318\, United States
CATEGORIES:Atlanta,Gala,Project Achievement Awards,Scholarships
END:VEVENT
BEGIN:VEVENT
DTSTART;TZID=America/New_York:20240613T180000
DTEND;TZID=America/New_York:20240613T210000
DTSTAMP:20260421T162032
CREATED:20240123T184738Z
LAST-MODIFIED:20240517T163900Z
UID:10000107-1718301600-1718312400@cmaasac.org
SUMMARY:2024 CMAA-SAC Annual Gala & Project Achievement Awards
DESCRIPTION:Join CMAA-SAC at the Atlanta History Center on June 13 as we celebrate the year and confer the 2024 Project Achievement Awards to some incredible projects and teams. During cocktail hour\, the exhibits will be open for exploration\, we have a digital Photo Booth to capture all the celebrations\, in addition to our regular photographer. Sponsorships are now available\, registration is open and we look forward to seeing you there! \nSponsorships are available to fit every business goal and budget! \nRegister Online
URL:https://cmaasac.org/event/2024-cmaa-sac-gala-project-achievement-awards/
LOCATION:Atlanta History Center\, 130 West Paces Ferry Road NW\, Atlanta\, GA\, 30305\, United States
CATEGORIES:Atlanta,Gala,Project Achievement Awards,Scholarships
ATTACH;FMTTYPE=image/png:https://cmaasac.org/wp-content/uploads/2024/05/cmaa-gala24.png
END:VEVENT
BEGIN:VEVENT
DTSTART;VALUE=DATE:20240430
DTEND;VALUE=DATE:20240501
DTSTAMP:20260421T162032
CREATED:20240123T184637Z
LAST-MODIFIED:20240330T153455Z
UID:10000106-1714435200-1714521599@cmaasac.org
SUMMARY:Scholarship Applications Deadline
DESCRIPTION:The CMAA-SAC Scholarship Foundation\, a 501(c)3 charitable organization\, will award a limited number of scholarships to qualified students as part of the Chapter’s ongoing efforts to provide the construction and design industries with a trained\, educated workforce. \nWith the South Atlantic Region and most parts of the country facing a construction workforce shortage\, CMAA-SAC decided the best way to help alleviate the problem was to have a dedicated foundation focused on the success\, not only of students in construction and architecture programs\, but those striving for trade degrees through the Technical College Systems across the Chapter geography.  The goal is to promote and enhance the delivery of the built environment by providing opportunities for continuous learning and improvement in the design\, construction and industry trades through professional development and practice. \nThe CMAA-SAC Scholarship Foundation is a self-supporting scholarship program and is a 501 (c) 3 designated organization so contributions are tax deductible as a charitable donation. \nPACKAGE COMING SOON
URL:https://cmaasac.org/event/scholarship-applications-deadline/
LOCATION:GA
CATEGORIES:Scholarships
ATTACH;FMTTYPE=image/png:https://cmaasac.org/wp-content/uploads/2024/02/2024-Scholarship-Entries-due.png
END:VEVENT
BEGIN:VEVENT
DTSTART;TZID=UTC:20230615T180000
DTEND;TZID=UTC:20230615T213000
DTSTAMP:20260421T162032
CREATED:20221118T162806Z
LAST-MODIFIED:20230416T155551Z
UID:10000078-1686852000-1686864600@cmaasac.org
SUMMARY:2023 Project Achievement Awards and Gala
DESCRIPTION:Join CMAA South Atlantic Chapter (SAC) on June 14 at The Foundry at Puritan Mill for an evening of excitement\, education\, awards and networking. \nWe have an exciting and timely keynote\, followed by dinner\, scholarships\, awards\, and more! \nAll facets of the industry are welcome to attend\, participate\, learn\, and celebrate with CMAA-SAC. \nSponsorships are available to fit every business goal and budget! \n  \nREGISTER ONLINE
URL:https://cmaasac.org/event/2023-project-achievement-awards-and-gala/
LOCATION:The Foundry at Puritan Mill\, 916 Joseph E. Lowery Blvd NW\, Atlanta\, GA\, 30318\, United States
CATEGORIES:Gala,Project Achievement Awards,Scholarships
ATTACH;FMTTYPE=image/jpeg:https://cmaasac.org/wp-content/uploads/2022/11/2023-PAA-Gala-Save-Jun.jpg
ORGANIZER;CN="CMAA SAC":MAILTO:info@cmaasac.org
END:VEVENT
BEGIN:VEVENT
DTSTART;TZID=America/New_York:20230502T080000
DTEND;TZID=America/New_York:20230502T170000
DTSTAMP:20260421T162032
CREATED:20221118T161457Z
LAST-MODIFIED:20230308T184557Z
UID:10000077-1683014400-1683046800@cmaasac.org
SUMMARY:2023 Dollars For Scholars Golf Tournament
DESCRIPTION:Join us for our annual “Dollars for Scholars” Golf Tournament. This even is all about supporting the CMAA-SAC Scholarship Foundation. Proceeds from the event will benefit the fund which awards multiple scholarships annually to students across the South Atlantic Chapter geography. \nMORE INFORMATION\n  \n\n 
URL:https://cmaasac.org/event/dollars-for-scholars-golf-tournament-2023/
LOCATION:The Manor Golf and Country Club\, 15951 Manor Club Drive\, Alpharetta\, GA\, 30004\, United States
CATEGORIES:Atlanta,Golf Tournament,Industry Event,Scholarships
ATTACH;FMTTYPE=image/png:https://cmaasac.org/wp-content/uploads/2023/03/2023-Golf-v3.png
ORGANIZER;CN="CMAA SAC":MAILTO:info@cmaasac.org
END:VEVENT
BEGIN:VEVENT
DTSTART;VALUE=DATE:20230501
DTEND;VALUE=DATE:20230502
DTSTAMP:20260421T162032
CREATED:20230213T220905Z
LAST-MODIFIED:20230416T134024Z
UID:10000083-1682899200-1682985599@cmaasac.org
SUMMARY:2023 CMAA Scholarship Application Deadline
DESCRIPTION:The CMAA-SAC Scholarship Foundation\, a 501(c)3 charitable organization\, will award a limited number of scholarships to qualified students as part of the Chapter’s ongoing efforts to provide the construction and design industries with a trained\, educated workforce. \n  \nWith the South Atlantic Region and most parts of the country facing a construction workforce shortage\, CMAA-SAC decided the best way to help alleviate the problem was to have a dedicated foundation focused on the success\, not only of students in construction and architecture programs\, but those striving for trade degrees through the Technical College System of Georgia (TCSG).  The goal is to promote and enhance the delivery of the built environment by providing opportunities for continuous learning and improvement in the design\, construction and industry trades through professional development and practice. \nThe CMAA-SAC Scholarship Foundation is a self-supporting scholarship program and is a 501 (c) 3 designated organization so contributions are tax deductible as a charitable donation.
URL:https://cmaasac.org/event/2023-cmaa-scholarship-foundation/
LOCATION:GA
CATEGORIES:Gives Back,Scholarships
ATTACH;FMTTYPE=image/png:https://cmaasac.org/wp-content/uploads/2023/01/2023-Scholarship-Entries-due.png
ORGANIZER;CN="CMAA SAC":MAILTO:info@cmaasac.org
END:VEVENT
BEGIN:VEVENT
DTSTART;TZID=UTC:20220721T180000
DTEND;TZID=UTC:20220721T213000
DTSTAMP:20260421T162032
CREATED:20220401T103706Z
LAST-MODIFIED:20220712T184622Z
UID:10000068-1658426400-1658439000@cmaasac.org
SUMMARY:2022 Project Achievement Awards and Gala
DESCRIPTION:Join CMAA South Atlantic Chapter (SAC) on July 21 at The Foundry at Puritan Mill for an evening of excitement\, education\, awards and networking. We have an exciting and entertaining keynote from Ms. Anna Roach\, the newly seated Executive Director of the Atlanta Regional Commission (ARC) and welcome all facets of the industry to attend\, participate\, learn\, and celebrate with CMAA-SAC. \nREGISTER ONLINE\n\nKEYNOTE SPEAKER\nAnna Roach\, Executive Director of the Atlanta Regional Commission\, will explore the historic opportunities presented by the federal Infrastructure Investment and Jobs Act. This legislation will double federal funding for transportation over the next five years while also providing investments to improve climate resiliency\, bridge the digital divide\, and improve community equity. She will discuss strategies for navigating this complex law and some of the challenges that must be addressed\, such as expanding the pipeline of skilled construction workers. \n\nPRICING: \nIndividuals\n$65.00 | Owners\n$150.00 | Members\n$175.00 | Non Members\n$65.00 | Students \nTables\n$1\,125.00 | Full Table (8)\n$   650.00 | Half Table (4) \n\nSPONSORSHIP OPPORTUNITIES:\ndownload flyer\n  \n  \n  \n  \n  \n  \n  \n\n\n\n\n\n\n\n\n\nMANY THANKS TO OUR GENEROUS SPONSORS!\n\n\n\n\n\nGOLD SPONSORS\n\n\n\n\n            \n\n\n\n\n\n\nPARTING GIFT SPONSOR\n\n\n\n\n\n\n\n\n\n\n\n\nSILVER SPONSORS\n        \n\n\n\n\n\nBRONZE SPONSOR\n\n\n\n\n\n\n\n\n\n\n\nNETWORKING RECEPTION SPONSORS\n\n\n\n\n       \n\n\n\n\n\n\n\nANNUAL SPONSOR\n\n\n\n\n\n\n\n\n\n\n\n\n\nNASHVILLE FOUNDING SPONSORS\n\n\n\n\n       
URL:https://cmaasac.org/event/2022-project-achievement-awards-and-gala/
LOCATION:The Foundry at Puritan Mill\, 916 Joseph E. Lowery Blvd NW\, Atlanta\, GA\, 30318\, United States
CATEGORIES:Gala,Project Achievement Awards,Scholarships
ATTACH;FMTTYPE=image/jpeg:https://cmaasac.org/wp-content/uploads/2022/06/2022-PAA-Gala-Open.jpg
ORGANIZER;CN="CMAA SAC":MAILTO:info@cmaasac.org
END:VEVENT
BEGIN:VEVENT
DTSTART;TZID=UTC:20220503T080000
DTEND;TZID=UTC:20220503T170000
DTSTAMP:20260421T162032
CREATED:20220207T163045Z
LAST-MODIFIED:20220207T163747Z
UID:10000064-1651564800-1651597200@cmaasac.org
SUMMARY:Dollars For Scholars Golf Tournament
DESCRIPTION:Join us for our annual Golf Tournament. This year we’re rolling out the new name of “Dollars for Scholars” which illustrates the purpose of this event – supporting the CMAA-SAC Scholarship Foundation. Proceeds from the event will benefi t the fund which awards multiple scholarships annually to students across the South Atlantic Chapter geography. \nMORE INFORMATION\n \n  \n\nThank you to our Event Champions: Fred Tull of JE Dunn Construction and Justis Brogan of McCarthy Building Companies \nThank you to our Tournament Sponsors:
URL:https://cmaasac.org/event/dollars-for-scholars-golf-tournament/
LOCATION:The Manor Golf and Country Club\, 15951 Manor Club Drive\, Alpharetta\, GA\, 30004\, United States
CATEGORIES:Atlanta,Golf Tournament,Industry Event,Scholarships
ATTACH;FMTTYPE=image/png:https://cmaasac.org/wp-content/uploads/2021/12/2022-Golf.png
ORGANIZER;CN="CMAA SAC":MAILTO:info@cmaasac.org
END:VEVENT
BEGIN:VEVENT
DTSTART;TZID=UTC:20210528T080000
DTEND;TZID=UTC:20210528T080000
DTSTAMP:20260421T162032
CREATED:20200811T045254Z
LAST-MODIFIED:20210505T132558Z
UID:10000043-1622188800-1622188800@cmaasac.org
SUMMARY:DEADLINE EXTENDED | Scholarship Entries Due
DESCRIPTION:The Construction Management Association of America South Atlantic Chapter is an organization dedicated to leading the growth and acceptance of professions in the Architecture\, Engineering\, and Construction (AEC) Industry that can add significant value to the entire design and construction process\, from conception to ongoing operation. To promote CMAA’s objectives\, the South Atlantic Chapter is offering academic scholarships to full‐time students pursuing a related degree to architecture\, engineering\, or construction management. \nMORE INFORMATION
URL:https://cmaasac.org/event/deadline-scholarship-entries-due/
LOCATION:Establishment Midtown\, 1197 Peachtree St. NE\, Suite 517\, Atlanta\, GA\, 30305\, United States
CATEGORIES:Scholarships
ATTACH;FMTTYPE=image/png:https://cmaasac.org/wp-content/uploads/2021/05/2021-Scholarship-Entries-Extended-due.png
ORGANIZER;CN="CMAA SAC":MAILTO:info@cmaasac.org
END:VEVENT
BEGIN:VEVENT
DTSTART;TZID=UTC:20200617T163000
DTEND;TZID=UTC:20200617T193000
DTSTAMP:20260421T162032
CREATED:20200414T142413Z
LAST-MODIFIED:20200609T102318Z
UID:10000026-1592411400-1592422200@cmaasac.org
SUMMARY:2020 Scholarship Entries Due
DESCRIPTION:2020 Scholarship Opportunities \nThe Construction Management Association of America South Atlantic Chapter is an organization dedicated to leading the growth and acceptance of professions in the Architecture\, Engineering\, and Construction (AEC) Industry that can add significant value to the entire design and construction process\, from conception to ongoing operation. To promote CMAA’s objectives\, the South Atlantic Chapter is offering academic scholarships to full‐time students pursuing a related degree to architecture\, engineering\, or construction management. \n\n\n\n\nUndergraduate / Graduate Scholarship:  Learn More\nTools of the Trade Scholarship:  Learn More\nDylan Thomas Scholarship:  Learn More\n\n\n\n\nAbout the Foundation \nThe CMAA-SAC Scholarship Foundation\, a 501(c)3 charitable organization\, will award a limited number of scholarships to qualified students as part of the Chapter’s ongoing efforts to provide the construction and design industries with a trained\, educated workforce. \nWith the South Atlantic Region and most parts of the country facing a construction workforce shortage\, CMAA-SAC decided the best way to help alleviate the problem was to have a dedicated foundation focused on the success\, not only of students in construction and architecture programs\, but those striving for trade degrees through the Technical College System of Georgia (TCSG).  The goal is to promote and enhance the delivery of the built environment by providing opportunities for continuous learning and improvement in the design\, construction and industry trades through professional development and practice. \nThe CMAA-SAC Scholarship Foundation is a self-supporting scholarship program and is a 501 (c) 3 designated organization so contributions are tax deductible as a charitable donation.
URL:https://cmaasac.org/event/2020-scholarship-entries-due/
LOCATION:GA\, United States
CATEGORIES:Scholarships
ATTACH;FMTTYPE=image/png:https://cmaasac.org/wp-content/uploads/2020/04/2020-Scholarship-Entries-extended.png
ORGANIZER;CN="CMAA SAC":MAILTO:info@cmaasac.org
END:VEVENT
END:VCALENDAR