BEGIN:VCALENDAR
VERSION:2.0
PRODID:-//CMAA South Atlantic Chapter - ECPv6.15.20//NONSGML v1.0//EN
CALSCALE:GREGORIAN
METHOD:PUBLISH
X-WR-CALNAME:CMAA South Atlantic Chapter
X-ORIGINAL-URL:https://cmaasac.org
X-WR-CALDESC:Events for CMAA South Atlantic Chapter
REFRESH-INTERVAL;VALUE=DURATION:PT1H
X-Robots-Tag:noindex
X-PUBLISHED-TTL:PT1H
BEGIN:VTIMEZONE
TZID:UTC
BEGIN:STANDARD
TZOFFSETFROM:+0000
TZOFFSETTO:+0000
TZNAME:UTC
DTSTART:20250101T000000
END:STANDARD
END:VTIMEZONE
BEGIN:VEVENT
DTSTART;TZID=UTC:20260421T180000
DTEND;TZID=UTC:20260421T200000
DTSTAMP:20260421T081208
CREATED:20260318T182952Z
LAST-MODIFIED:20260318T182952Z
UID:10000141-1776794400-1776801600@cmaasac.org
SUMMARY:CMAA-SAC Owner’s Social: Uncork and Connect
DESCRIPTION:Join CMAA-SAC for an evening of connection and conversation at our upcoming Owner’s Social. Hosted at 3 Parks Wine Shop\, this relaxed networking event brings together owners and industry professionals in an intimate setting designed to foster meaningful relationships. \n\nEnjoy a curated tasting of five wines paired with charcuterie while connecting with peers across the industry. Whether you’re looking to strengthen existing relationships or build new ones\, this is a great opportunity to engage with the CMAA-SAC community in a more informal setting.  \n\nRegister here!
URL:https://cmaasac.org/event/springwine/
LOCATION:3 Parks Wine Shop – O4W\, 405 North Angier Ave NE\, Suite 200\, Atlanta\, 30308\, United States
CATEGORIES:Atlanta,Owners' Socials
END:VEVENT
END:VCALENDAR