BEGIN:VCALENDAR
VERSION:2.0
PRODID:-//CMAA South Atlantic Chapter - ECPv6.15.20//NONSGML v1.0//EN
CALSCALE:GREGORIAN
METHOD:PUBLISH
X-ORIGINAL-URL:https://cmaasac.org
X-WR-CALDESC:Events for CMAA South Atlantic Chapter
REFRESH-INTERVAL;VALUE=DURATION:PT1H
X-Robots-Tag:noindex
X-PUBLISHED-TTL:PT1H
BEGIN:VTIMEZONE
TZID:UTC
BEGIN:STANDARD
TZOFFSETFROM:+0000
TZOFFSETTO:+0000
TZNAME:UTC
DTSTART:20240101T000000
END:STANDARD
END:VTIMEZONE
BEGIN:VEVENT
DTSTART;TZID=UTC:20251009T170000
DTEND;TZID=UTC:20251009T200000
DTSTAMP:20260421T184557
CREATED:20250919T215308Z
LAST-MODIFIED:20250923T182013Z
UID:10000134-1760029200-1760040000@cmaasac.org
SUMMARY:Fall Owner's Social
DESCRIPTION:  \nJoin CMAA-SAC in Atlanta for a networking happy hour. Mix and mingle with your AEC industry peers and professionals on the beautiful rooftop patio at Gypsy Kitchen in Buckhead. Make some new connections\, rekindle old friendships\, and learn what makes the Construction Management Association of America\, particularly the South Atlantic Chapter\, so great! \nRegistration includes two drink tickets and light appetizers. \nLocation: Gypsy Kitchen\, 3035 Peachtree Rd. NE\, Suite A209\, Atlanta\, GA 30305 \nREGISTER HERE
URL:https://cmaasac.org/event/fall-owners-social/
LOCATION:Gypsy Kitchen\, 3035 Peachtree Rd NE Ste A209\, Atlanta\, GA\, 30305\, United States
CATEGORIES:Atlanta,Happy Hour,Owners' Socials
ATTACH;FMTTYPE=image/png:https://cmaasac.org/wp-content/uploads/2025/09/Fall-Owners-Social-Email-Blast-Pic_Social.png
ORGANIZER;CN="CMAA SAC":MAILTO:info@cmaasac.org
END:VEVENT
END:VCALENDAR