BEGIN:VCALENDAR
VERSION:2.0
PRODID:-//CMAA South Atlantic Chapter - ECPv6.15.20//NONSGML v1.0//EN
CALSCALE:GREGORIAN
METHOD:PUBLISH
X-ORIGINAL-URL:https://cmaasac.org
X-WR-CALDESC:Events for CMAA South Atlantic Chapter
REFRESH-INTERVAL;VALUE=DURATION:PT1H
X-Robots-Tag:noindex
X-PUBLISHED-TTL:PT1H
BEGIN:VTIMEZONE
TZID:UTC
BEGIN:STANDARD
TZOFFSETFROM:+0000
TZOFFSETTO:+0000
TZNAME:UTC
DTSTART:20180101T000000
END:STANDARD
END:VTIMEZONE
BEGIN:VEVENT
DTSTART;TZID=UTC:20200603T120000
DTEND;TZID=UTC:20200603T130000
DTSTAMP:20260421T162102
CREATED:20191007T035152Z
LAST-MODIFIED:20200529T115756Z
UID:10000020-1591185600-1591189200@cmaasac.org
SUMMARY:June 3 Lunch & Learn Webinar
DESCRIPTION:Please join CMAA-SAC for our June 3 Lunch & Learn Webinar.\nTopic: Air Barriers: High Performance Building Envelope\nSponsored by: Canam and Tremco \n \n  \nThis session is designed for facilities\, design and construction professionals interested in increasing their knowledge of the application and use of air barriers. Researchers\, architects and code writers have shown that attention to specific details in both new and retrofitted envelopes result in better performing buildings with better comfort and long durability as well as lower energy consumption. \nAir leakage through the building envelope is silent\, invisible and cunning. It causes numerous building envelope problems including wetting of cavity materials\, spalling of masonry\, premature corrosion of metals\, blistering of paint\, icicles\, staining of contraction. Continuity is important but strength is even more important. In buildings\, the air barrier system must be designed\, and specified on plans. It has specific performance criteria and specific material requirements. \nLearning Objectives: \n\nHow better building envelopes can reduce energy demand on heating and cooling and reduce energy and increase comfort.\nThe significance of each part of the building envelope (the top\, bottom\, vertical shafts and the walls) relative to the efficient operation.\nWhat problems can occur with the lack of compartmentalization and/or decoupling between floors in buildings over 3 stories?\nDiscover the materials and methodology used in air sealing school buildings.\n\n  \nSpeaker: \nSteven Tratt\, National Sales Manager\, Canam \nSteve has over 26 years of experience in the building envelope air barrier industry\, including expertise in air leakage testing and weatherization materials. He has worked extensively in the custom design of building science solutions for the education\, healthcare\, commercial and government markets. His material expertise includes two component polyurethane foam insulating air sealants\, door and window weather‐stripping\, fire stopping systems and air tightness testing equipment. \nSteve has trained building envelope retrofit contractors in both Canada and The United States and has made numerous presentations to a wide variety of trade associations. Currently Steve is involved in organizing and presenting air barrier seminars for architects and engineers throughout Canada and the United States. \n\nThe presentation will be comparable to AIA and will help you fulfill CEU’s for other organizations. Attendance Certificates will be made available to all attendees. Syllabus (1 hour CEU) \nAll proceeds will go towards funding the annual scholarships at our awards banquet in June.
URL:https://cmaasac.org/event/may-20-lunch-learn/
LOCATION:GA\, United States
CATEGORIES:Lunch & Learn,Webinar
ATTACH;FMTTYPE=image/png:https://cmaasac.org/wp-content/uploads/2020/05/06.03-postponed.png
ORGANIZER;CN="CMAA SAC":MAILTO:info@cmaasac.org
END:VEVENT
BEGIN:VEVENT
DTSTART;TZID=UTC:20200520T120000
DTEND;TZID=UTC:20200520T130000
DTSTAMP:20260421T162102
CREATED:20200505T072755Z
LAST-MODIFIED:20200505T145641Z
UID:10000027-1589976000-1589979600@cmaasac.org
SUMMARY:May 20 Joint CMAA SAC/GA4LE Lunch & Learn Webinar
DESCRIPTION:Please join CMAA-SAC & GA4LE for a jointly hosted May 20 Lunch & Learn Webinar.\nTopic: 2020 Energy Code Changes\nSponsored by: Stevens & Wilkinson \n \n  \nNew building codes have been adopted in Georgia. Stevens & Wilkinson will present an update of the newly adopted code editions which are now mandatory\, with a focus on how these changes impact K12 design and construction. \nThe presentation will be comparable to AIA and will help you fulfill CEU’s for other organizations. Attendance Certificates will be made available to all attendees. Syllabus (1 hour CEU)
URL:https://cmaasac.org/event/may-20-joint-cmaa-sac-ga4le-lunch-learn-webinar/
LOCATION:GA\, United States
CATEGORIES:Lunch & Learn
ATTACH;FMTTYPE=image/png:https://cmaasac.org/wp-content/uploads/2020/05/05.22-FINAL.png
ORGANIZER;CN="CMAA SAC":MAILTO:info@cmaasac.org
END:VEVENT
BEGIN:VEVENT
DTSTART;TZID=UTC:20200408T120000
DTEND;TZID=UTC:20200408T130000
DTSTAMP:20260421T162102
CREATED:20191007T034459Z
LAST-MODIFIED:20200317T204704Z
UID:10000016-1586347200-1586350800@cmaasac.org
SUMMARY:April 8 Lunch & Learn
DESCRIPTION:THIS EVENT HAS BEEN POSTPONED. AS SOON AS THE NEW DATE IS ESTABLISHED WE WILL UPDATE THE EVENT. \nPlease join CMAA-SAC for our April 8 Lunch & Learn.\nTopic: Current Construction Issues and Trends\nSponsored by: Alliant \nLearning Objectives:\n– Market conditions for all insurance lines\n– Claims trends\n– Professional liability update\n– Wood frame and residential markets \nThe presentation will be comparable to AIA and will help you fulfill CEU’s for other organizations. Attendance Certificates will be made available to all attendees. Syllabus (1 hour CEU) \nAll proceeds will go towards funding the annual scholarships at our awards banquet in June.
URL:https://cmaasac.org/event/april-8-lunch-learn/
LOCATION:GA\, United States
CATEGORIES:Lunch & Learn
ATTACH;FMTTYPE=image/png:https://cmaasac.org/wp-content/uploads/2020/03/04.08-postponed.png
ORGANIZER;CN="CMAA SAC":MAILTO:info@cmaasac.org
END:VEVENT
BEGIN:VEVENT
DTSTART;TZID=UTC:20200219T120000
DTEND;TZID=UTC:20200219T130000
DTSTAMP:20260421T162102
CREATED:20191007T033818Z
LAST-MODIFIED:20200119T222851Z
UID:10000013-1582113600-1582117200@cmaasac.org
SUMMARY:February 19 Lunch & Learn
DESCRIPTION:Please join CMAA-SAC for our Feburary 19 Lunch & Learn.\nTopic: 2020 Energy Code Changes\nSponsored by: Mingledorff’s \n \n  \nThe Presentation will review the changes to Georgia’s Energy code that is being adopted on January 1st\, 2020. Focus will be on the commercial portion of the code and specifically on the mechanical sections. Some of those sections are:\n– HVAC load calculations\n– Equipment performance requirements\n– HVAC system controls\n– Ventilation\n– Energy recovery ventilators\n– Piping insulation \nThe presentation will be comparable to AIA and will help you fulfill CEU’s for other organizations. Attendance Certificates will be made available to all attendees. Syllabus (1 hour CEU) \nAll proceeds will go towards funding the annual scholarships at our awards banquet in June.
URL:https://cmaasac.org/event/february-19-lunch-learn/
LOCATION:CBRE | Heery\, 3550 Lenox Road\, Suite 2300\, Atlanta\, GA\, 30326\, United States
CATEGORIES:Lunch & Learn
ATTACH;FMTTYPE=image/png:https://cmaasac.org/wp-content/uploads/2020/01/02.19.png
ORGANIZER;CN="CMAA SAC":MAILTO:info@cmaasac.org
END:VEVENT
BEGIN:VEVENT
DTSTART;TZID=UTC:20200129T120000
DTEND;TZID=UTC:20200129T130000
DTSTAMP:20260421T162102
CREATED:20191007T033610Z
LAST-MODIFIED:20200116T190951Z
UID:10000012-1580299200-1580302800@cmaasac.org
SUMMARY:January 29 Lunch & Learn
DESCRIPTION:Please join CMAA-SAC for our January 29 Lunch & Learn.\nTopic: Theatrical Lighting Rigging Systems\nSponsored by: Ardd + Winter \n \n  \nLearning Objectives:\n– Identify the typical venues and events that require rigging\n– Examine what stage rigging is and what choices are available\n– Review the results and evaluate the impact of the cost study\n– Appraise safety\, accessibility\, and functionality capabilities \nThe presentation will be comparable to AIA and will help you fulfill CEU’s for other organizations. Attendance Certificates will be made available to all attendees. Syllabus (1 hour CEU) \nAll proceeds will go towards funding the annual scholarships at our awards banquet in June.
URL:https://cmaasac.org/event/january-29-lunch-learn/
LOCATION:CBRE | Heery\, 3550 Lenox Road\, Suite 2300\, Atlanta\, GA\, 30326\, United States
CATEGORIES:Lunch & Learn
ATTACH;FMTTYPE=image/png:https://cmaasac.org/wp-content/uploads/2019/11/01.29.png
ORGANIZER;CN="CMAA SAC":MAILTO:info@cmaasac.org
END:VEVENT
BEGIN:VEVENT
DTSTART;TZID=UTC:20200115T120000
DTEND;TZID=UTC:20200115T130000
DTSTAMP:20260421T162102
CREATED:20191007T032230Z
LAST-MODIFIED:20191111T180929Z
UID:10000009-1579089600-1579093200@cmaasac.org
SUMMARY:January 15 Lunch & Learn
DESCRIPTION:Please join CMAA-SAC for our January 15 Lunch & Learn (RESCHEDULED!).\nTopic: Fabric Duct & Diffusers: The Art & Science of Air Distribution\nSponsored by: Holden & Associates and Prihoda North America \n \n  \nThis course will explore the advantages and potential applications of textile ducting and diffusers\, also known as fabric air dispersion systems and address common myths and misconceptions related to this topic. Textile Air Dispersion systems have come a long way in technical development over the years in terms of features\, benefits\, and aesthetics. Similar to traditional metal duct systems\, textile air dispersion systems operate to circulate air for heating and cooling systems; however\, unlike traditional metal ducts\, modern textile system distribution ducts and diffusers are made of engineered polyester that can even be derived from recycled plastics\, that does not rust\, corrode\, or retain moisture. Textile diffuser systems offer virtually unlimited design flexibility including various shapes\, colors\, and custom printing options to give designers unmatched ability to tailor the form and function of air distribution systems. \nLearning Objectives:\n– Explain what a textile air dispersion system is and how it differs from traditional metal systems\n– List the main components of a textile air dispersion system\n– Discuss the process for designing and specifying a textile air dispersion systems and many related benefits \nThe presentation will be comparable to AIA and will help you fulfill CEU’s for other organizations. Attendance Certificates will be made available to all attendees. Syllabus (1 hour CEU) \nAll proceeds will go towards funding the annual scholarships at our awards banquet in June.
URL:https://cmaasac.org/event/november-6-lunch-learn/
LOCATION:GA\, United States
CATEGORIES:Lunch & Learn
ATTACH;FMTTYPE=image/png:https://cmaasac.org/wp-content/uploads/2019/11/01.15.png
ORGANIZER;CN="CMAA SAC":MAILTO:info@cmaasac.org
END:VEVENT
BEGIN:VEVENT
DTSTART;TZID=UTC:20191023T120000
DTEND;TZID=UTC:20191023T130000
DTSTAMP:20260421T162102
CREATED:20190923T125840Z
LAST-MODIFIED:20191011T091207Z
UID:10000006-1571832000-1571835600@cmaasac.org
SUMMARY:October 23 Lunch & Learn
DESCRIPTION:Join CMAA SAC for our Oct. 23 Lunch & Learn.\nTopic: Smoke Guard: Smoke Curtains\nSponsored by: Maxson and Associates \n \n  \nLearning Objectives:\n– Understanding the IBC/Life Safety codes for vertical smoke migration\n– Various options for enclosing elevator lobbies in regards to swing doors and retractable fire doors\n– Introduction to Smoke Guard Curtains that can and are used in lieu of Elevator Lobbies per IBC Building codes/regulations. \nThe presentation will be comparable to AIA and will help you fulfill CEU’s for other organizations. Attendance Certificates will be made available to all attendees. Syllabus (1 hour CEU) \nAll proceeds will go towards funding the annual scholarships at our awards banquet in June.
URL:https://cmaasac.org/event/2982/
LOCATION:CBRE | Heery\, 3550 Lenox Road\, Suite 2300\, Atlanta\, GA\, 30326\, United States
CATEGORIES:Lunch & Learn
ATTACH;FMTTYPE=image/png:https://cmaasac.org/wp-content/uploads/2019/09/10.23-LL.png
ORGANIZER;CN="CMAA SAC":MAILTO:info@cmaasac.org
END:VEVENT
BEGIN:VEVENT
DTSTART;TZID=UTC:20191009T120000
DTEND;TZID=UTC:20191009T130000
DTSTAMP:20260421T162102
CREATED:20190923T123525Z
LAST-MODIFIED:20191001T130015Z
UID:10000005-1570622400-1570626000@cmaasac.org
SUMMARY:October 9 Lunch & Learn
DESCRIPTION:Join CMAA SAC for our Oct. 9 Lunch & Learn.\nTopic: Topic: Wet Seal and Rain Screen Systems\, Metal Tariffs\, and Kynar Post painting\nSponsored by: American Metalcraft\, Inc. \n \n  \nLearning Objectives:\n– Have a better understanding of metal panel systems and components\n– Be able to explain how wet seal varies from rain screen systems\, AAMA testing standards and the air/water infiltration requirements\n– Have a clear understanding of gauges and alloys\n– Understand reduced/zero waste in panel design\n– The impact of metal tariffs on architectural metals and current domestic production trends\n– Kynar post painting process \nThe presentation will be comparable to AIA and will help you fulfill CEU’s for other organizations. Attendance Certificates will be made available to all attendees. Syllabus (1 hour CEU) \nAll proceeds will go towards funding the annual scholarships at our awards banquet in June.
URL:https://cmaasac.org/event/october-9-lunch-learn/
LOCATION:CBRE | Heery\, 3550 Lenox Road\, Suite 2300\, Atlanta\, GA\, 30326\, United States
CATEGORIES:Lunch & Learn
ATTACH;FMTTYPE=image/png:https://cmaasac.org/wp-content/uploads/2019/10/10.09-LL-v2.png
ORGANIZER;CN="CMAA SAC":MAILTO:info@cmaasac.org
END:VEVENT
END:VCALENDAR