BEGIN:VCALENDAR
VERSION:2.0
PRODID:-//CMAA South Atlantic Chapter - ECPv6.15.20//NONSGML v1.0//EN
CALSCALE:GREGORIAN
METHOD:PUBLISH
X-WR-CALNAME:CMAA South Atlantic Chapter
X-ORIGINAL-URL:https://cmaasac.org
X-WR-CALDESC:Events for CMAA South Atlantic Chapter
REFRESH-INTERVAL;VALUE=DURATION:PT1H
X-Robots-Tag:noindex
X-PUBLISHED-TTL:PT1H
BEGIN:VTIMEZONE
TZID:America/Chicago
BEGIN:DAYLIGHT
TZOFFSETFROM:-0600
TZOFFSETTO:-0500
TZNAME:CDT
DTSTART:20230312T080000
END:DAYLIGHT
BEGIN:STANDARD
TZOFFSETFROM:-0500
TZOFFSETTO:-0600
TZNAME:CST
DTSTART:20231105T070000
END:STANDARD
BEGIN:DAYLIGHT
TZOFFSETFROM:-0600
TZOFFSETTO:-0500
TZNAME:CDT
DTSTART:20240310T080000
END:DAYLIGHT
BEGIN:STANDARD
TZOFFSETFROM:-0500
TZOFFSETTO:-0600
TZNAME:CST
DTSTART:20241103T070000
END:STANDARD
BEGIN:DAYLIGHT
TZOFFSETFROM:-0600
TZOFFSETTO:-0500
TZNAME:CDT
DTSTART:20250309T080000
END:DAYLIGHT
BEGIN:STANDARD
TZOFFSETFROM:-0500
TZOFFSETTO:-0600
TZNAME:CST
DTSTART:20251102T070000
END:STANDARD
END:VTIMEZONE
BEGIN:VTIMEZONE
TZID:UTC
BEGIN:STANDARD
TZOFFSETFROM:+0000
TZOFFSETTO:+0000
TZNAME:UTC
DTSTART:20230101T000000
END:STANDARD
END:VTIMEZONE
BEGIN:VEVENT
DTSTART;TZID=America/Chicago:20240416T150000
DTEND;TZID=America/Chicago:20240416T170000
DTSTAMP:20260423T211820
CREATED:20240225T133607Z
LAST-MODIFIED:20240225T133608Z
UID:10000111-1713279600-1713286800@cmaasac.org
SUMMARY:"Lunch" & Learn - Site Selection
DESCRIPTION:Join CMAA-SAC for a presentation on traditional site selection presented and sponsored by Thomas & Hutton. The session will be followed by an in-office happy hour. \nTopic: Site selection consulting is the practice of identifying new locations for clients by considering multiple factors. Many firms view site selection as the assessment of land and/or existing structures but this only property evaluation. Full site selection has many additional facets and is the true beginning of the facility lifecycle. Site selection takes into consideration: material and transportation logistics studies\, workforce evaluations\, wage surveys\, land/building evaluations\, utility analysis\, permitting\, tax structures\, legal\, and incentive negotiations. Each of these areas are complex and requires an experienced professional to work through the process. \nEVENT REGISTRATION
URL:https://cmaasac.org/event/lunch-learn-site-selection-2/
LOCATION:Thomas & Hutton – Nashville\, 500 11th Avenue North\, Suite 800\, Nashville\, TN\, 37203\, United States
CATEGORIES:Happy Hour,Lunch & Learn,Nashville
ATTACH;FMTTYPE=image/jpeg:https://cmaasac.org/wp-content/uploads/2024/02/04-16-24-Site-Selection.jpg
ORGANIZER;CN="CMAA SAC":MAILTO:info@cmaasac.org
END:VEVENT
BEGIN:VEVENT
DTSTART;TZID=UTC:20240424T170000
DTEND;TZID=UTC:20240424T200000
DTSTAMP:20260423T211820
CREATED:20240222T203055Z
LAST-MODIFIED:20240225T133045Z
UID:10000110-1713978000-1713988800@cmaasac.org
SUMMARY:CMAA-SAC Charleston Networking Social
DESCRIPTION:Join CMAA-SAC in Charleston for a Networking Happy Hour. Mix and mingle with your AEC industry peers and professionals at Holy City Brewing. Make some new connections\, rekindle old friendships\, and learn what makes the Construction Management Association of America\, particularly the South Atlantic Chapter\, so great! \nRegistration includes two drink tickets and light appetizers. \n\nREGISTER ONLINE
URL:https://cmaasac.org/event/cmaa-sac-charleston-networking-social/
LOCATION:GA
CATEGORIES:Happy Hour,South Carolina
ATTACH;FMTTYPE=image/jpeg:https://cmaasac.org/wp-content/uploads/2024/02/2024-OS-04-24-SC.jpg
END:VEVENT
END:VCALENDAR