BEGIN:VCALENDAR
VERSION:2.0
PRODID:-//CMAA South Atlantic Chapter - ECPv6.15.20//NONSGML v1.0//EN
CALSCALE:GREGORIAN
METHOD:PUBLISH
X-ORIGINAL-URL:https://cmaasac.org
X-WR-CALDESC:Events for CMAA South Atlantic Chapter
REFRESH-INTERVAL;VALUE=DURATION:PT1H
X-Robots-Tag:noindex
X-PUBLISHED-TTL:PT1H
BEGIN:VTIMEZONE
TZID:UTC
BEGIN:STANDARD
TZOFFSETFROM:+0000
TZOFFSETTO:+0000
TZNAME:UTC
DTSTART:20230101T000000
END:STANDARD
END:VTIMEZONE
BEGIN:VEVENT
DTSTART;TZID=UTC:20241118T130000
DTEND;TZID=UTC:20241118T160000
DTSTAMP:20260423T153018
CREATED:20241104T165639Z
LAST-MODIFIED:20241104T165639Z
UID:10000123-1731934800-1731945600@cmaasac.org
SUMMARY:2024 CMAA-SAC Thanksgiving Volunteer Day
DESCRIPTION:Help CMAA-SAC for a Thanksgiving Volunteer Day at the Atlanta Mission Food Bank’s Mission Support Center on Monday\, November 18. We will be working together to prepare donations for distribution across the area. \nPlease arrive 10 minutes prior to the shift start time to check-in. Orientation begins promptly at the start of the shift. Late volunteers may be unable to serve. \nPlease consider bringing as many nonperishable items as you can! Also\, see the list below for additional items needed for Atlanta Mission Center. \n\nAbout the Atlanta Mission:   \nThe Atlanta Mission is a community united to end homelessness and is the city’s largest and longest-running provider of services to homeless men\, women and children. Atlanta Mission is committed to helping their clients identify the root causes of their homelessness and overcome any traumatic experiences so that by the time they leave our facility\, they are equipped with the tools they need to be independent and the encouragement they need to permanently break the cycle of poverty in their lives. \nDress Code: Closed-toe and closed-heel shoes are required\, with sneakers or work boots recommended. Flip flops\, Crocs\, sandals or heeled shoes are not allowed. Please wear comfortable clothing which you do not mind getting a bit rumpled. Some volunteers will be sorting refrigerated product. Please wear long pants and bring a sweatshirt or light jacket with you. In the event you are working elsewhere\, we do have lockers onsite to place your outerwear. \n\nREGISTER HERE
URL:https://cmaasac.org/event/2024-cmaa-sac-thanksgiving-volunteer/
LOCATION:Atlanta Mission Food Bank\, 2353 Bolton Rd NW\, Atlanta\, 30318\, United States
CATEGORIES:Atlanta,Gives Back,Industry Event
ATTACH;FMTTYPE=image/png:https://cmaasac.org/wp-content/uploads/2024/11/Thanksgiving.png
END:VEVENT
END:VCALENDAR