BEGIN:VCALENDAR
VERSION:2.0
PRODID:-//CMAA South Atlantic Chapter - ECPv6.15.20//NONSGML v1.0//EN
CALSCALE:GREGORIAN
METHOD:PUBLISH
X-WR-CALNAME:CMAA South Atlantic Chapter
X-ORIGINAL-URL:https://cmaasac.org
X-WR-CALDESC:Events for CMAA South Atlantic Chapter
REFRESH-INTERVAL;VALUE=DURATION:PT1H
X-Robots-Tag:noindex
X-PUBLISHED-TTL:PT1H
BEGIN:VTIMEZONE
TZID:UTC
BEGIN:STANDARD
TZOFFSETFROM:+0000
TZOFFSETTO:+0000
TZNAME:UTC
DTSTART:20210101T000000
END:STANDARD
END:VTIMEZONE
BEGIN:VTIMEZONE
TZID:America/New_York
BEGIN:DAYLIGHT
TZOFFSETFROM:-0500
TZOFFSETTO:-0400
TZNAME:EDT
DTSTART:20210314T070000
END:DAYLIGHT
BEGIN:STANDARD
TZOFFSETFROM:-0400
TZOFFSETTO:-0500
TZNAME:EST
DTSTART:20211107T060000
END:STANDARD
BEGIN:DAYLIGHT
TZOFFSETFROM:-0500
TZOFFSETTO:-0400
TZNAME:EDT
DTSTART:20220313T070000
END:DAYLIGHT
BEGIN:STANDARD
TZOFFSETFROM:-0400
TZOFFSETTO:-0500
TZNAME:EST
DTSTART:20221106T060000
END:STANDARD
BEGIN:DAYLIGHT
TZOFFSETFROM:-0500
TZOFFSETTO:-0400
TZNAME:EDT
DTSTART:20230312T070000
END:DAYLIGHT
BEGIN:STANDARD
TZOFFSETFROM:-0400
TZOFFSETTO:-0500
TZNAME:EST
DTSTART:20231105T060000
END:STANDARD
BEGIN:DAYLIGHT
TZOFFSETFROM:-0500
TZOFFSETTO:-0400
TZNAME:EDT
DTSTART:20240310T070000
END:DAYLIGHT
BEGIN:STANDARD
TZOFFSETFROM:-0400
TZOFFSETTO:-0500
TZNAME:EST
DTSTART:20241103T060000
END:STANDARD
END:VTIMEZONE
BEGIN:VTIMEZONE
TZID:America/Chicago
BEGIN:DAYLIGHT
TZOFFSETFROM:-0600
TZOFFSETTO:-0500
TZNAME:CDT
DTSTART:20210314T080000
END:DAYLIGHT
BEGIN:STANDARD
TZOFFSETFROM:-0500
TZOFFSETTO:-0600
TZNAME:CST
DTSTART:20211107T070000
END:STANDARD
BEGIN:DAYLIGHT
TZOFFSETFROM:-0600
TZOFFSETTO:-0500
TZNAME:CDT
DTSTART:20220313T080000
END:DAYLIGHT
BEGIN:STANDARD
TZOFFSETFROM:-0500
TZOFFSETTO:-0600
TZNAME:CST
DTSTART:20221106T070000
END:STANDARD
BEGIN:DAYLIGHT
TZOFFSETFROM:-0600
TZOFFSETTO:-0500
TZNAME:CDT
DTSTART:20230312T080000
END:DAYLIGHT
BEGIN:STANDARD
TZOFFSETFROM:-0500
TZOFFSETTO:-0600
TZNAME:CST
DTSTART:20231105T070000
END:STANDARD
END:VTIMEZONE
BEGIN:VEVENT
DTSTART;TZID=UTC:20250326T080000
DTEND;TZID=UTC:20250326T110000
DTSTAMP:20260421T082623
CREATED:20250303T160209Z
LAST-MODIFIED:20250306T225420Z
UID:10000127-1742976000-1742986800@cmaasac.org
SUMMARY:Breakfast Panel - Industrial
DESCRIPTION:Join CMAA-SAC and our esteemed panel of industry experts for an engaging breakfast panel exploring key trends shaping the industrial sector\, from adaptable building designs and automation advancements to the latest energy codes and zoning regulations. Our expert panelists will also discuss how on-site amenities are evolving to attract top talent\, making industrial facilities more innovative and employee-friendly. Panelists include: \n\nZach Kenyon\, Vice President Industrial Projects – JLL\nErik Magsamen\, Vice President – Industrial & Manufacturing – JE Dunn Construction\nJeff Zollinger\, Senior Project Leader – Randall Paulson\nChad Boyea\, Principal – PES Structural Engineers\n\nModerator: \n\nAshley McIntyre\, Client Relations and Marketing – Bennett & Pless\n\nREGISTER HERE\nThanks to our sponsors!\n    
URL:https://cmaasac.org/event/breakfast-panel-industrial/
LOCATION:Office Works\, 1811 Marietta Blvd NW\, Atlanta\, GA\, 30318\, United States
CATEGORIES:Atlanta,Breakfast Meeting,Executive Breakfast Series
ORGANIZER;CN="CMAA SAC":MAILTO:info@cmaasac.org
END:VEVENT
BEGIN:VEVENT
DTSTART;TZID=UTC:20250212T080000
DTEND;TZID=UTC:20250212T110000
DTSTAMP:20260421T082623
CREATED:20250121T162604Z
LAST-MODIFIED:20250131T204826Z
UID:10000124-1739347200-1739358000@cmaasac.org
SUMMARY:Executive Breakfast Series: Owner's Roundtable
DESCRIPTION:Join CMAA-SAC as we welcome influential owners from the Atlanta A/E/C industry. You will have the opportunity to hear about their companies/agencies\, upcoming projects\, procurement processes\, and more. \nThe morning will begin with registration\, networking\, and breakfast. Opening remarks and introductions will lead into our roundtable rotations. \nDuring registration\, attendees will select and rank the representatives they’d most like to engage during one of the four rotations and we will do our best to pair you with your selected owners. \nOwner Representatives include: \n\nTerry Peters | Fulton County\nApril Stammel | South Downtown\nCarrie Rocha & Romon Moultrie | MARTA\nChristy Sanders | GSFIC\nBrendan Bowen | Technical College System of Georgia\nNorma Click | Hartsfield-Jackson Atlanta International Airport\nBrian Whelan | GSA\nXavier James | Georgia DOT\nFernando Rodriguez | University of Georgia\n\n  \nREGISTER HERE
URL:https://cmaasac.org/event/executive-breakfast-series-owners-roundtable/
LOCATION:Maggiano’s Buckhead\, 3368 Peachtree Road\, Atlanta\, GA\, 30326\, United States
CATEGORIES:Atlanta,Executive Breakfast Series
ORGANIZER;CN="CMAA SAC":MAILTO:info@cmaasac.org
END:VEVENT
BEGIN:VEVENT
DTSTART;TZID=America/New_York:20230214T080000
DTEND;TZID=America/New_York:20230214T110000
DTSTAMP:20260421T082623
CREATED:20221019T115757Z
LAST-MODIFIED:20230213T213841Z
UID:10000075-1676361600-1676372400@cmaasac.org
SUMMARY:CMAA-SAC Executive Breakfast Series: Owner's Roundtable
DESCRIPTION:Join CMAA-SAC as we welcome influential owners from the Atlanta A/E/C industry. You will have the opportunity to hear about their companies/agencies\, upcoming projects\, procurement processes\, and more. \nThe morning will begin with registration\, networking\, and breakfast. Opening remarks and introductions will lead into our roundtable rotations. During registration\, attendees will select and rank the representatives they’d most like to engage during one of the four rotations and we will do our best to pair you with your selected owners. \nOwner Representatives include: \n\nSamson Oyegunle | Board of Regents\nJohnny Tolbert | City of Atlanta\nBrendan Bowen | Technical College System of Georgia\nKirsten Neff | GSA\nChristy Sanders | GSFIC\nDiana Quinn | Fulton County Schools\nRamon Moultrie | MARTA\nHenry Gomez | Cobb County School District\nKen Stockdell | Georgia World Congress Center Authority\nEdward Adams & Spencer Gaudet | Department of Juvenile Justice\n\n\nREGISTER ONLINE\n\nEVENT SPONSORSHIPS AVAILABLE: \n$600 | Member Firm\n$800 | Non Member Firm \n$450 | MWDBE Member Firm\n$600 | MWDBE Non Member Firm
URL:https://cmaasac.org/event/cmaa-sac-executive-breakfast-series-owners-roundtable-2/
LOCATION:Maggiano’s Buckhead\, 3368 Peachtree Road\, Atlanta\, GA\, 30326\, United States
CATEGORIES:Atlanta,Executive Breakfast Series
ATTACH;FMTTYPE=image/png:https://cmaasac.org/wp-content/uploads/2023/02/EBS-23-02-14-OR-v5.png
ORGANIZER;CN="CMAA SAC":MAILTO:info@cmaasac.org
END:VEVENT
BEGIN:VEVENT
DTSTART;TZID=America/New_York:20221018T080000
DTEND;TZID=America/New_York:20221018T100000
DTSTAMP:20260421T082623
CREATED:20220922T110548Z
LAST-MODIFIED:20221012T074251Z
UID:10000070-1666080000-1666087200@cmaasac.org
SUMMARY:CMAA-SAC Executive Breakfast Series: On the Move with HJAIA
DESCRIPTION:Join CMAA-SAC and our esteemed panel of industry experts for a multi-faceted discussion on the past\, present and future of development in and around Hartsfield-Jackson Atlanta International Airport\, the busiest in the world! The panel will discuss developments\, projects\, and partnerships at and around HJAIA\, and will provide an opportunity for leadership from various agencies to discuss short and long-term projects that are in design or construction phase\, forecasted projects\, challenges they are actively facing\, how to get involved\, roles/responsibilities of each organization\, etc. \n \n\nREGISTER ONLINE\n\nSPONSORSHIPS AVAILABLE: $600 | Member Firm $800 | Non Member Firm $400 | MWBE Member Firm $550 | MWBE Non Member Firm
URL:https://cmaasac.org/event/cmaa-sac-executive-breakfast-series-on-the-move-with-hjaia-2/
LOCATION:Maggiano’s Buckhead\, 3368 Peachtree Road\, Atlanta\, GA\, 30326\, United States
CATEGORIES:Atlanta,Breakfast Meeting,Executive Breakfast Series
ATTACH;FMTTYPE=image/png:https://cmaasac.org/wp-content/uploads/2022/10/EBS-22-10-18-HJAIA-v3.png
ORGANIZER;CN="CMAA SAC":MAILTO:info@cmaasac.org
END:VEVENT
BEGIN:VEVENT
DTSTART;TZID=America/New_York:20220419T093000
DTEND;TZID=America/New_York:20220419T110000
DTSTAMP:20260421T082623
CREATED:20220303T155014Z
LAST-MODIFIED:20220401T121518Z
UID:10000066-1650360600-1650366000@cmaasac.org
SUMMARY:Higher Education: Evolution of the Campus Environment
DESCRIPTION:Join CMAA-SAC for our virtual higher education panel bringing together all areas of our region with representatives from institutions in Alabama\, Georgia\, South Carolina\, and Tennessee. Discussions will include but are not limited to the topics of: understanding the post-pandemic impacts on building programs; what’s happening behind the scenes with the evolution of the campus experience and how the built environment will both shape and support those changes. \n \n  \n\n \n\n\nSPONSORSHIPS:\nSponsorships are available | $250 Members / $300 Non-Members \nBENEFITS INCLUDE: \n\n5 FREE registrations to selected meeting\nLogo on all marketing materials\nOpportunity to address audience for 1 minute during intro of session\nOne slide included in presentation deck\nAttendee list after event\nSocial media promotion\nRecognition in quarterly newsletter Building
URL:https://cmaasac.org/event/higher-education-evolution-of-the-campus-environment/
LOCATION:Zoom Webinar\, Georgia\, United States
CATEGORIES:Breakfast Meeting,Executive Breakfast Series,Virtual
ATTACH;FMTTYPE=image/png:https://cmaasac.org/wp-content/uploads/2022/02/EBS-22-04-19-HE-Virtual.png
ORGANIZER;CN="CMAA SAC":MAILTO:info@cmaasac.org
END:VEVENT
BEGIN:VEVENT
DTSTART;TZID=America/Chicago:20220309T080000
DTEND;TZID=America/Chicago:20220309T100000
DTSTAMP:20260421T082624
CREATED:20211222T214602Z
LAST-MODIFIED:20220307T172212Z
UID:10000059-1646812800-1646820000@cmaasac.org
SUMMARY:CMAA-SAC Executive Breakfast Series: Reimagine and Restore (Nashville)
DESCRIPTION:Adaptive reuse is critical to retaining the culture and feel of Nashville while supporting its growth and evolution all while respecting its history. Join CMAA on March 9 at the Nashville City Club for a moderated panel discussion exploring case studies\, best practices\, pitfalls\, and project drivers for adaptive reuse in one of the hottest markets in the country. \n8:00 AM – 9:00 AM | Breakfast\, Registration\, Networking\n9:00 AM – 10:00 AM | Moderated Panel Discussion \n \n  \n\nSponsorships Available | $500\nincludes 2 attendee registrations\, opportunity to address audience at meeting commencement\, logo on all signage and event communications\, slide in opening deck on rotation during networking\, hyperlink to website on event sites \nThank you to our Event Champion: Ike Tarver of JE Dunn Construction \nThank you to our Sponsors: Building and Earth and JE Dunn Construction \n\nPanelists include: \n\nPhilip Welker | BNA Associates\nGavin Lejameyer  | New City Properties\nBernie Butler | D9 Development\nJaclyn Mothupi | The Wondry at Vanderbilt\n\n*other panelists to be added soon \nModerator: Ike Tarver\, JE Dunn Construction
URL:https://cmaasac.org/event/cmaa-sac-executive-breakfast-series-reimagine-and-restore-nashville/
LOCATION:Nashville City Club\, 201 4th Avenue North\, Nashville\, TN\, 37219\, United States
CATEGORIES:Breakfast Meeting,Executive Breakfast Series,Nashville
ATTACH;FMTTYPE=image/png:https://cmaasac.org/wp-content/uploads/2022/02/EBS-22-03-09-AdaptiveResue-resched_v3.png
ORGANIZER;CN="CMAA SAC":MAILTO:info@cmaasac.org
END:VEVENT
BEGIN:VEVENT
DTSTART;TZID=UTC:20220222T080000
DTEND;TZID=UTC:20220222T100000
DTSTAMP:20260421T082624
CREATED:20211222T215047Z
LAST-MODIFIED:20220214T155837Z
UID:10000061-1645516800-1645524000@cmaasac.org
SUMMARY:CMAA-SAC Executive Breakfast Series: Moving Atlanta Forward
DESCRIPTION:Join CMAA-SAC and our esteemed panel of industry experts for a multi-faceted discussion on the past\, present and future of Atlanta. The Gulch development has a massive financial impact on the city\, AEC industry and tourism. This progressive project hits all the hot buttons with high MWBE requirements\, development and contracting during a period of inflated costs and material scarcity\, and workforce shortages. It touches multiple markets including corporate office\, hospitality\, infrastructure\, public safety\, residential and more. Learn more about how this project came to be\, opportunities for future work and the anticipated impacts to the City of Atlanta and surrounding areas. \n \n  \n  \nSponsorships Available: $500 Members | $700 Non-Members \nThank you to our Event Champion: Amber Arnsdorff of Multivista \nThank you to our Sponsors: Ruby-Collins\, Goode Van Slyke Architecture\, Multivista\, Terracon \n 
URL:https://cmaasac.org/event/cmaa-sac-executive-breakfast-series-moving-atlanta-forward/
LOCATION:The Buckhead Club\, 3344 Peachtree Road NE\, Suite 2600\, Atlanta\, GA\, 30326\, United States
CATEGORIES:Atlanta,Breakfast Meeting,Executive Breakfast Series
ATTACH;FMTTYPE=image/png:https://cmaasac.org/wp-content/uploads/2022/02/EBS-22-02-22-Gulch-v5.png
ORGANIZER;CN="CMAA SAC":MAILTO:info@cmaasac.org
END:VEVENT
BEGIN:VEVENT
DTSTART;TZID=America/New_York:20220125T080000
DTEND;TZID=America/New_York:20220125T110000
DTSTAMP:20260421T082624
CREATED:20211222T214912Z
LAST-MODIFIED:20211229T145923Z
UID:10000060-1643097600-1643108400@cmaasac.org
SUMMARY:CMAA-SAC Executive Breakfast Series: Owner's Roundtable
DESCRIPTION:Join CMAA-SAC as we welcome influential owners from the Atlanta A/E/C industry. You will have the opportunity to hear about their companies/agencies\, upcoming projects\, procurement processes\, and more. \nThe morning will begin with registration\, networking\, and breakfast. Opening remarks and introductions will lead into our roundtable rotations. During registration\, attendees will select and rank the representatives they’d most like to engage during one of the four rotations and we will do our best to pair you with your selected owners.
URL:https://cmaasac.org/event/cmaa-sac-executive-breakfast-series-owners-roundtable/
LOCATION:The Buckhead Club\, 3344 Peachtree Road NE\, Suite 2600\, Atlanta\, GA\, 30326\, United States
CATEGORIES:Atlanta,Breakfast Meeting,Executive Breakfast Series
ATTACH;FMTTYPE=image/png:https://cmaasac.org/wp-content/uploads/2021/12/EBS-22-01-25-OR_v3.png
ORGANIZER;CN="CMAA SAC":MAILTO:info@cmaasac.org
END:VEVENT
END:VCALENDAR